BEGIN:VCALENDAR
VERSION:2.0
PRODID:-//Centerville-Washington Park District - ECPv6.0.12//NONSGML v1.0//EN
CALSCALE:GREGORIAN
METHOD:PUBLISH
X-WR-CALNAME:Centerville-Washington Park District
X-ORIGINAL-URL:https://cwpd.org
X-WR-CALDESC:Events for Centerville-Washington Park District
REFRESH-INTERVAL;VALUE=DURATION:PT1H
X-Robots-Tag:noindex
X-PUBLISHED-TTL:PT1H
BEGIN:VTIMEZONE
TZID:America/New_York
BEGIN:DAYLIGHT
TZOFFSETFROM:-0500
TZOFFSETTO:-0400
TZNAME:EDT
DTSTART:20250309T070000
END:DAYLIGHT
BEGIN:STANDARD
TZOFFSETFROM:-0400
TZOFFSETTO:-0500
TZNAME:EST
DTSTART:20251102T060000
END:STANDARD
END:VTIMEZONE
BEGIN:VEVENT
DTSTART;TZID=America/New_York:20250629T140000
DTEND;TZID=America/New_York:20250629T160000
DTSTAMP:20260425T194150
CREATED:20250425T174616Z
LAST-MODIFIED:20250629T160058Z
UID:27990-1751205600-1751212800@cwpd.org
SUMMARY:Sunday Sundaes: Americana Kick Off
DESCRIPTION:All ages \n  \nKick off red\, white and blue week with a free sundae at the Smith House! Enjoy a relaxing summer afternoon with refreshments\, yard games and themed crafts. \n  \nRegistration is not required\, but registered participants will receive reminder and/or cancellation emails.
URL:https://cwpd.org/event/sunday-sundaes-americana-kick-off-2/
LOCATION:Bill Yeck Park\, Smith House\, 2230 E. Centerville Station Road\, Centerville\, OH\, 45459\, United States
ATTACH;FMTTYPE=image/png:https://cwpd.org/wp-content/uploads/2016/07/120x120_grandparents-sundae.png
END:VEVENT
END:VCALENDAR