BEGIN:VCALENDAR
VERSION:2.0
PRODID:-//Centerville-Washington Park District - ECPv6.0.12//NONSGML v1.0//EN
CALSCALE:GREGORIAN
METHOD:PUBLISH
X-WR-CALNAME:Centerville-Washington Park District
X-ORIGINAL-URL:https://cwpd.org
X-WR-CALDESC:Events for Centerville-Washington Park District
REFRESH-INTERVAL;VALUE=DURATION:PT1H
X-Robots-Tag:noindex
X-PUBLISHED-TTL:PT1H
BEGIN:VTIMEZONE
TZID:America/New_York
BEGIN:DAYLIGHT
TZOFFSETFROM:-0500
TZOFFSETTO:-0400
TZNAME:EDT
DTSTART:20260308T070000
END:DAYLIGHT
BEGIN:STANDARD
TZOFFSETFROM:-0400
TZOFFSETTO:-0500
TZNAME:EST
DTSTART:20261101T060000
END:STANDARD
END:VTIMEZONE
BEGIN:VEVENT
DTSTART;TZID=America/New_York:20260228T130000
DTEND;TZID=America/New_York:20260228T153000
DTSTAMP:20260424T162939
CREATED:20251103T181059Z
LAST-MODIFIED:20260223T153531Z
UID:29320-1772283600-1772292600@cwpd.org
SUMMARY:Watercolor Lotus Class
DESCRIPTION:Ages 18 and up \n  \nLearn techniques like how to add interest to backgrounds\, utilize a limited palette\, and work with limited brushes to improve dexterity. You will leave the class with your completed painting! All skill levels are welcome! This class is best for beginner to intermediate level participants. All supplies will be provided. Class is taught by visual artist and designer Renee Hopson. \n  \nRegistration deadline: Monday\, February 23
URL:https://cwpd.org/event/watercolor-lotus-class/
LOCATION:Activity Center Park\, 221 N. Main St.\, Centerville\, OH\, 45459\, United States
ATTACH;FMTTYPE=image/png:https://cwpd.org/wp-content/uploads/2021/06/120x120-watercolor.png
END:VEVENT
END:VCALENDAR