BEGIN:VCALENDAR
VERSION:2.0
PRODID:-//Centerville-Washington Park District - ECPv6.0.12//NONSGML v1.0//EN
CALSCALE:GREGORIAN
METHOD:PUBLISH
X-WR-CALNAME:Centerville-Washington Park District
X-ORIGINAL-URL:https://cwpd.org
X-WR-CALDESC:Events for Centerville-Washington Park District
REFRESH-INTERVAL;VALUE=DURATION:PT1H
X-Robots-Tag:noindex
X-PUBLISHED-TTL:PT1H
BEGIN:VTIMEZONE
TZID:America/New_York
BEGIN:DAYLIGHT
TZOFFSETFROM:-0500
TZOFFSETTO:-0400
TZNAME:EDT
DTSTART:20250309T070000
END:DAYLIGHT
BEGIN:STANDARD
TZOFFSETFROM:-0400
TZOFFSETTO:-0500
TZNAME:EST
DTSTART:20251102T060000
END:STANDARD
END:VTIMEZONE
BEGIN:VEVENT
DTSTART;TZID=America/New_York:20250715T180000
DTEND;TZID=America/New_York:20250715T190000
DTSTAMP:20260425T181212
CREATED:20250425T184517Z
LAST-MODIFIED:20250714T115114Z
UID:28029-1752602400-1752606000@cwpd.org
SUMMARY:Window Flower Art
DESCRIPTION:Ages 3 – 6 \n  \nWildflowers are not just something to admire\, they are built perfectly to attract pollinators! Learn about the parts of wildflowers by creating a work of art for your window! All supplies will be provided. This is a Tools to Trek program. \n  \nRegistration deadline: Sunday\, July 13
URL:https://cwpd.org/event/window-flower-art/
LOCATION:Yankee Park\, 7500 Yankee St.\, Centerville\, OH\, 45459\, United States
END:VEVENT
END:VCALENDAR