BEGIN:VCALENDAR
VERSION:2.0
PRODID:-//Centerville-Washington Park District - ECPv6.0.12//NONSGML v1.0//EN
CALSCALE:GREGORIAN
METHOD:PUBLISH
X-WR-CALNAME:Centerville-Washington Park District
X-ORIGINAL-URL:https://cwpd.org
X-WR-CALDESC:Events for Centerville-Washington Park District
REFRESH-INTERVAL;VALUE=DURATION:PT1H
X-Robots-Tag:noindex
X-PUBLISHED-TTL:PT1H
BEGIN:VTIMEZONE
TZID:America/New_York
BEGIN:DAYLIGHT
TZOFFSETFROM:-0500
TZOFFSETTO:-0400
TZNAME:EDT
DTSTART:20250309T070000
END:DAYLIGHT
BEGIN:STANDARD
TZOFFSETFROM:-0400
TZOFFSETTO:-0500
TZNAME:EST
DTSTART:20251102T060000
END:STANDARD
END:VTIMEZONE
BEGIN:VEVENT
DTSTART;TZID=America/New_York:20250701T180000
DTEND;TZID=America/New_York:20250701T190000
DTSTAMP:20260425T194541
CREATED:20250428T191838Z
LAST-MODIFIED:20250627T131506Z
UID:27998-1751392800-1751396400@cwpd.org
SUMMARY:Wire Wonders
DESCRIPTION:Ages 14 and up \n  \nWe will use beads\, wire\, rocks and glass tubes to create wire air plant holders or propagation stations. We will learn how to twist the wire and add beads and charms. All participants will receive an air plant to keep. No experience is necessary. We will be using wire cutters and pliers in this class. \n  \nRegistration deadline: Tuesday\, June 24
URL:https://cwpd.org/event/wire-wonders/
LOCATION:Grant Park\, Kennard Nature Nook\, 6588 McEwen Rd.\, Centerville\, OH\, 45459\, United States
ATTACH;FMTTYPE=image/jpeg:https://cwpd.org/wp-content/uploads/2025/04/AirPlant_120x120.jpg
END:VEVENT
END:VCALENDAR