BEGIN:VCALENDAR
VERSION:2.0
PRODID:-//Centerville-Washington Park District - ECPv6.0.12//NONSGML v1.0//EN
CALSCALE:GREGORIAN
METHOD:PUBLISH
X-WR-CALNAME:Centerville-Washington Park District
X-ORIGINAL-URL:https://cwpd.org
X-WR-CALDESC:Events for Centerville-Washington Park District
REFRESH-INTERVAL;VALUE=DURATION:PT1H
X-Robots-Tag:noindex
X-PUBLISHED-TTL:PT1H
BEGIN:VTIMEZONE
TZID:America/New_York
BEGIN:DAYLIGHT
TZOFFSETFROM:-0500
TZOFFSETTO:-0400
TZNAME:EDT
DTSTART:20250309T070000
END:DAYLIGHT
BEGIN:STANDARD
TZOFFSETFROM:-0400
TZOFFSETTO:-0500
TZNAME:EST
DTSTART:20251102T060000
END:STANDARD
END:VTIMEZONE
BEGIN:VEVENT
DTSTART;TZID=America/New_York:20251213T130000
DTEND;TZID=America/New_York:20251213T143000
DTSTAMP:20260424T225437
CREATED:20251103T155452Z
LAST-MODIFIED:20251211T120920Z
UID:29144-1765630800-1765636200@cwpd.org
SUMMARY:Woodpecker Scavenger Hunt
DESCRIPTION:All ages \n  \nDo you know what makes a good woodpecker habitat? Search for all of Ohio’s woodpeckers and the elements they need to survive. Each family will receive their own woodpecker flip guide. This is a Tools to Trek program. \n  \nRegistration deadline: Thursday\, December 11
URL:https://cwpd.org/event/woodpecker-scavenger-hunt/
LOCATION:Grant Park\, 501 Normandy Ridge Rd.\, Centerville\, OH\, United States
ATTACH;FMTTYPE=image/png:https://cwpd.org/wp-content/uploads/2017/07/120x120_red-bellied-woodpecker-male-bill-dice-BY.png
END:VEVENT
END:VCALENDAR