BEGIN:VCALENDAR
VERSION:2.0
PRODID:-//Centerville-Washington Park District - ECPv6.0.12//NONSGML v1.0//EN
CALSCALE:GREGORIAN
METHOD:PUBLISH
X-WR-CALNAME:Centerville-Washington Park District
X-ORIGINAL-URL:https://cwpd.org
X-WR-CALDESC:Events for Centerville-Washington Park District
REFRESH-INTERVAL;VALUE=DURATION:PT1H
X-Robots-Tag:noindex
X-PUBLISHED-TTL:PT1H
BEGIN:VTIMEZONE
TZID:America/New_York
BEGIN:DAYLIGHT
TZOFFSETFROM:-0500
TZOFFSETTO:-0400
TZNAME:EDT
DTSTART:20250309T070000
END:DAYLIGHT
BEGIN:STANDARD
TZOFFSETFROM:-0400
TZOFFSETTO:-0500
TZNAME:EST
DTSTART:20251102T060000
END:STANDARD
END:VTIMEZONE
BEGIN:VEVENT
DTSTART;TZID=America/New_York:20250908T090000
DTEND;TZID=America/New_York:20250908T100000
DTSTAMP:20260425T115031
CREATED:20250728T172109Z
LAST-MODIFIED:20250908T123847Z
UID:28480-1757322000-1757325600@cwpd.org
SUMMARY:Yoga in the Park C
DESCRIPTION:Ages 18 and up\nMondays\, September 8 – October 13 \n  \nMethod Studio’s Megan Lees leads these yoga classes for all levels. Classes include warm-up\, breath work\, standing poses\, flowing poses and end with relaxation. \n  \nRegistration deadline: Friday\, September 5
URL:https://cwpd.org/event/yoga-in-the-park-c-5/
LOCATION:Grant Park\, Kennard Nature Nook\, 6588 McEwen Rd.\, Centerville\, OH\, 45459\, United States
ATTACH;FMTTYPE=image/png:https://cwpd.org/wp-content/uploads/2019/07/120x120_HIIT-Yoga.png
END:VEVENT
END:VCALENDAR