BEGIN:VCALENDAR
VERSION:2.0
PRODID:-//Centerville-Washington Park District - ECPv6.0.12//NONSGML v1.0//EN
CALSCALE:GREGORIAN
METHOD:PUBLISH
X-WR-CALNAME:Centerville-Washington Park District
X-ORIGINAL-URL:https://cwpd.org
X-WR-CALDESC:Events for Centerville-Washington Park District
REFRESH-INTERVAL;VALUE=DURATION:PT1H
X-Robots-Tag:noindex
X-PUBLISHED-TTL:PT1H
BEGIN:VTIMEZONE
TZID:America/New_York
BEGIN:DAYLIGHT
TZOFFSETFROM:-0500
TZOFFSETTO:-0400
TZNAME:EDT
DTSTART:20250309T070000
END:DAYLIGHT
BEGIN:STANDARD
TZOFFSETFROM:-0400
TZOFFSETTO:-0500
TZNAME:EST
DTSTART:20251102T060000
END:STANDARD
END:VTIMEZONE
BEGIN:VEVENT
DTSTART;TZID=America/New_York:20250719T100000
DTEND;TZID=America/New_York:20250719T113000
DTSTAMP:20260425T180834
CREATED:20250428T143635Z
LAST-MODIFIED:20250718T142839Z
UID:28039-1752919200-1752924600@cwpd.org
SUMMARY:Young Birders Club Meeting
DESCRIPTION:Ages 12 – 18\nBellbrook-Sugarcreek Park District\n2751 Washington Mill Rd\, Bellbrook\, OH 45305 \n  \nKettering PRCA and Centerville-Washington Park District are collaborating to bring the joy of bird watching to our youth.\nBird watching and identification is a fun and rewarding hobby and also a great place to make friends. Light snacks are provided. Participants must become members of the Ohio Young Birders Club and be between the ages of 12 and 18. \n  \nProgram Code: 03-30240-B (registration through Kettering)
URL:https://cwpd.org/event/young-birders-club-meeting-2/
ATTACH;FMTTYPE=image/jpeg:https://cwpd.org/wp-content/uploads/2020/01/Belted_Kingfisher_Western_Washington_State_04.jpg
END:VEVENT
END:VCALENDAR