BEGIN:VCALENDAR
VERSION:2.0
PRODID:-//Centerville-Washington Park District - ECPv6.0.12//NONSGML v1.0//EN
CALSCALE:GREGORIAN
METHOD:PUBLISH
X-WR-CALNAME:Centerville-Washington Park District
X-ORIGINAL-URL:https://cwpd.org
X-WR-CALDESC:Events for Centerville-Washington Park District
REFRESH-INTERVAL;VALUE=DURATION:PT1H
X-Robots-Tag:noindex
X-PUBLISHED-TTL:PT1H
BEGIN:VTIMEZONE
TZID:America/New_York
BEGIN:DAYLIGHT
TZOFFSETFROM:-0500
TZOFFSETTO:-0400
TZNAME:EDT
DTSTART:20260308T070000
END:DAYLIGHT
BEGIN:STANDARD
TZOFFSETFROM:-0400
TZOFFSETTO:-0500
TZNAME:EST
DTSTART:20261101T060000
END:STANDARD
END:VTIMEZONE
BEGIN:VEVENT
DTSTART;TZID=America/New_York:20260221T100000
DTEND;TZID=America/New_York:20260221T113000
DTSTAMP:20260424T162958
CREATED:20251103T152121Z
LAST-MODIFIED:20260219T180805Z
UID:29302-1771668000-1771673400@cwpd.org
SUMMARY:Young Birders Club Meeting
DESCRIPTION:Ages 12 – 18 \n  \nKettering PRCA and Centerville-Washington Park District are collaborating to bring the joy of bird watching to our youth. \n  \nBird watching and identification is a fun and rewarding hobby and also a great place to make friends. Light snacks are provided. Participants must become members of the Ohio Young Birders Club and be between the ages of 12 and 18. \n  \nProgram Code: 03-30240-C (registration through Kettering)
URL:https://cwpd.org/event/young-birders-club-meeting-5/
LOCATION:The Habitat Environmental Center\, 3036 Bellflower St.\, Kettering\, OH\, 45409\, United States
ATTACH;FMTTYPE=image/png:https://cwpd.org/wp-content/uploads/2016/11/120x120_birding-evening-grosbeak.png
END:VEVENT
END:VCALENDAR