BEGIN:VCALENDAR
VERSION:2.0
PRODID:-//Centerville-Washington Park District - ECPv6.0.12//NONSGML v1.0//EN
CALSCALE:GREGORIAN
METHOD:PUBLISH
X-ORIGINAL-URL:https://cwpd.org
X-WR-CALDESC:Events for Centerville-Washington Park District
REFRESH-INTERVAL;VALUE=DURATION:PT1H
X-Robots-Tag:noindex
X-PUBLISHED-TTL:PT1H
BEGIN:VTIMEZONE
TZID:America/New_York
BEGIN:DAYLIGHT
TZOFFSETFROM:-0500
TZOFFSETTO:-0400
TZNAME:EDT
DTSTART:20250309T070000
END:DAYLIGHT
BEGIN:STANDARD
TZOFFSETFROM:-0400
TZOFFSETTO:-0500
TZNAME:EST
DTSTART:20251102T060000
END:STANDARD
END:VTIMEZONE
BEGIN:VEVENT
DTSTART;TZID=America/New_York:20251002T160000
DTEND;TZID=America/New_York:20251002T173000
DTSTAMP:20260425T085811
CREATED:20250725T170916Z
LAST-MODIFIED:20251006T010015Z
UID:28589-1759420800-1759426200@cwpd.org
SUMMARY:Halloween Hop & Howl: A
DESCRIPTION:All ages \n  \nPut on your Halloween best and enjoy a festive stroll designed especially for preschoolers around Forest Field Park. Themed signs will be placed along the path to get children moving and grooving as they collect treats at various stations. Families are encouraged to come in costume and enjoy the Halloween spirit. Allergy-friendly treats will be provided. Please bring your own bag to collect them! Kona Ice will be available for purchase\, weather permitting. \n  \nRegistration is not required\, however\, registered participants will receive a cancellation email in the event of inclement weather.
URL:https://cwpd.org/event/halloween-hop-howl-a-2/
LOCATION:Forest Field Park\, 2100 E. Centerville Station Rd.\, Centerville\, OH\, 45459\, United States
ATTACH;FMTTYPE=image/jpeg:https://cwpd.org/wp-content/uploads/2025/07/HalloweenHopAndHowl1_120x120.jpg
END:VEVENT
BEGIN:VEVENT
DTSTART;TZID=America/New_York:20250930T173000
DTEND;TZID=America/New_York:20250930T190000
DTSTAMP:20260425T085811
CREATED:20250728T143517Z
LAST-MODIFIED:20250929T124943Z
UID:28576-1759253400-1759258800@cwpd.org
SUMMARY:Conservation Crew: Seed Collection Hike
DESCRIPTION:Ages 12 – 18 \n  \nIn addition to collecting late-blooming flower seeds from the Seed Nursery\, we will hit the trails and look for other seeds ready to be collected. \n  \nRegistration deadline: Sunday\, September 28
URL:https://cwpd.org/event/conservation-crew-seed-collection-hike-2/
LOCATION:Bill Yeck Park\, Smith House\, 2230 E. Centerville Station Road\, Centerville\, OH\, 45459\, United States
ATTACH;FMTTYPE=image/png:https://cwpd.org/wp-content/uploads/2021/01/120x120-seed-nursery.png
END:VEVENT
BEGIN:VEVENT
DTSTART;TZID=America/New_York:20250928T140000
DTEND;TZID=America/New_York:20250928T153000
DTSTAMP:20260425T085811
CREATED:20250728T174849Z
LAST-MODIFIED:20250925T172600Z
UID:28574-1759068000-1759073400@cwpd.org
SUMMARY:Bike About Centerville\, Ride C
DESCRIPTION:Ages 18 and up \n  \nTake advantage of this opportunity to explore Centerville and Washington Township by bicycle. The ride will be led by trained and experienced bike leaders and will help you learn routes to shopping\, parks and more! Rides will be an easy-paced 10 to 15 miles that start and end at a park. \n  \nRegistration deadline: Thursday\, September 25
URL:https://cwpd.org/event/bike-about-centerville-ride-c/
LOCATION:Pleasant Hill Park\, 358 Zengel Dr. \, Centerville\, OH\, 45459\, United States
ATTACH;FMTTYPE=image/jpeg:https://cwpd.org/wp-content/uploads/bike_120x120.jpg
END:VEVENT
BEGIN:VEVENT
DTSTART;TZID=America/New_York:20250928T130000
DTEND;TZID=America/New_York:20250928T150000
DTSTAMP:20260425T085811
CREATED:20250728T150346Z
LAST-MODIFIED:20250922T124921Z
UID:28571-1759064400-1759071600@cwpd.org
SUMMARY:Family Clay Fairy House Workshop
DESCRIPTION:Recommended for ages 4 and up with parent/guardian participation \n  \nThis fairy house workshop is for the young and young at heart! No previous clay experience is required for this workshop! Each family will receive 2 lbs of clay\, enough to make 2 – 3 small houses or 1 larger house! We will use non-sharp simple tools and hand building\, and paint the houses with glaze the same day! This is not a drop-off program. \n  \nRegistration deadline: Sunday\, September 21
URL:https://cwpd.org/event/family-clay-fairy-house-workshop/
LOCATION:Activity Center Park\, 221 N. Main St.\, Centerville\, OH\, 45459\, United States
ATTACH;FMTTYPE=image/jpeg:https://cwpd.org/wp-content/uploads/2025/07/FamilyClayFairyHouseWorkshop_120x120.jpg
END:VEVENT
BEGIN:VEVENT
DTSTART;TZID=America/New_York:20250927T160000
DTEND;TZID=America/New_York:20250927T180000
DTSTAMP:20260425T085811
CREATED:20250908T212346Z
LAST-MODIFIED:20250930T151645Z
UID:28979-1758988800-1758996000@cwpd.org
SUMMARY:Project VIPR Hike
DESCRIPTION:All ages \n  \nJeff McPherson\, one of CWPD’s Project VIPR (Volunteer Invasive Plant Response) Leaders and the creator of this initiative\, is hosting a hike on Saturday\, September 27\, at 4:00 p.m. at Bill Yeck Park’s McGuffey Meadow. This is an opportunity to learn how invasive species removal impacts the parks. You can see the beauty of McGuffey Meadow while learning from Jeff\, who is a wealth of knowledge when it comes to your parks! Join us for a hike and enjoy nature’s beauty. Please note that participants will be going off-trail at times. \n  \nPreregistration is not required.
URL:https://cwpd.org/event/project-vipr-hike/
LOCATION:Bill Yeck Park\, McGuffey Meadow\, 7893 Wilmington-Dayton Rd.\, Dayton\, OH\, 45458\, United States
END:VEVENT
BEGIN:VEVENT
DTSTART;TZID=America/New_York:20250927T110000
DTEND;TZID=America/New_York:20250927T140000
DTSTAMP:20260425T085811
CREATED:20250725T154925Z
LAST-MODIFIED:20250930T151640Z
UID:28569-1758970800-1758981600@cwpd.org
SUMMARY:Adapted Action Day
DESCRIPTION:All ages \n  \nThe annual Adapted Action Day event is in a new location this year! Join us at the accessible and exciting Activity Center Park for this afternoon of adapted events created to serve all abilities! This day will be full of archery\, kickball\, sidewalk chalk\, adapted biking\, pickleball/tennis\, crafts and so much more! Partners from all over the community will be there to bring this event to life! \n  \nRegistration is requested but not required. Please let us know what accommodations you would like to see to make this event even better for you!
URL:https://cwpd.org/event/adapted-action-day-2/
LOCATION:Activity Center Park\, 221 N. Main St.\, Centerville\, OH\, 45459\, United States
ATTACH;FMTTYPE=image/jpeg:https://cwpd.org/wp-content/uploads/2023/08/120x120_adapted-action.jpg
END:VEVENT
BEGIN:VEVENT
DTSTART;TZID=America/New_York:20250927T083000
DTEND;TZID=America/New_York:20250927T100000
DTSTAMP:20260425T085811
CREATED:20250728T150325Z
LAST-MODIFIED:20250925T172551Z
UID:28567-1758961800-1758967200@cwpd.org
SUMMARY:BIRD is the WORD
DESCRIPTION:All ages \n  \nMany birds have interesting names! Join avid birder John Kennard on a birdwatching walk. He will share fun anecdotes about how some of our feathered friends got their names. Hike is on a natural path. Bring binoculars if you have them. A limited supply will be available to borrow. This is a Tools to Trek program. \n  \nRegistration deadline: Thursday\, September 25
URL:https://cwpd.org/event/bird-is-the-word/
LOCATION:Grant Park\, 501 Normandy Ridge Rd.\, Centerville\, OH\, United States
ATTACH;FMTTYPE=image/jpeg:https://cwpd.org/wp-content/uploads/2020/01/Belted_Kingfisher_Western_Washington_State_04.jpg
END:VEVENT
BEGIN:VEVENT
DTSTART;TZID=America/New_York:20250926T190000
DTEND;TZID=America/New_York:20250926T203000
DTSTAMP:20260425T085812
CREATED:20250728T160249Z
LAST-MODIFIED:20250919T013907Z
UID:28565-1758913200-1758918600@cwpd.org
SUMMARY:LEGO Botanical Autumn
DESCRIPTION:Ages 16 and up \n  \nCreate a project with a lasting reminder of the colors of summer during this new adult evening out! Participants will choose a LEGO flower kit to build while the sun sets over the meadow. Enjoy a variety of refreshments while you work on your project. Note: Kit options will be different from the Spring session. \n  \nRegistration deadline: Wednesday\, September 17
URL:https://cwpd.org/event/lego-botanical-autumn/
LOCATION:Activity Center Park\, 221 N. Main St.\, Centerville\, OH\, 45459\, United States
ATTACH;FMTTYPE=image/png:https://cwpd.org/wp-content/uploads/2025/01/LegoSpringBlooms_120x120.png
END:VEVENT
BEGIN:VEVENT
DTSTART;TZID=America/New_York:20250925T180000
DTEND;TZID=America/New_York:20250925T193000
DTSTAMP:20260425T085812
CREATED:20250728T160228Z
LAST-MODIFIED:20250926T173006Z
UID:28560-1758823200-1758828600@cwpd.org
SUMMARY:All About Coyotes
DESCRIPTION:Ages 16 and up \n  \nJoin an ODNR Division of Wildlife expert for a presentation on coyote life history. The lecture will include information about coyote behavior and resources for those concerned about their local coyote populations. \n  \nRegistration is taken by Washington-Centerville Public Library. Registration opens on August 28. Registration deadline: 1 hour before program begins or until program is full
URL:https://cwpd.org/event/all-about-coyotes-2/
LOCATION:RexPlex West\, 965 Miamisburg Centerville Road\, Washington Township\, OH\, 45459\, United States
ATTACH;FMTTYPE=image/jpeg:https://cwpd.org/wp-content/uploads/2024/10/coyote_120x120.jpg
END:VEVENT
BEGIN:VEVENT
DTSTART;TZID=America/New_York:20250925T173000
DTEND;TZID=America/New_York:20250925T190000
DTSTAMP:20260425T085812
CREATED:20250728T150311Z
LAST-MODIFIED:20250821T153548Z
UID:28558-1758821400-1758826800@cwpd.org
SUMMARY:Fall Family Archery
DESCRIPTION:Ages 8 and up \n  \nJoin us for this family session to learn the basics of archery and to play some competitive\, fall-themed games! All equipment is provided and no experience is necessary. Each family member registered can bring up to 4 people. Children must be 8 years old or older to participate. \n  \nRegistration deadline: Friday\, September 19
URL:https://cwpd.org/event/fall-family-archery/
LOCATION:Oak Grove Park\, 1790 E. Social Row Rd.\, Centerville\, OH\, 45458\, United States
ATTACH;FMTTYPE=image/jpeg:https://cwpd.org/wp-content/uploads/2020/07/120x120_archery.jpg
END:VEVENT
BEGIN:VEVENT
DTSTART;TZID=America/New_York:20250923T180000
DTEND;TZID=America/New_York:20250923T191500
DTSTAMP:20260425T085812
CREATED:20250728T150255Z
LAST-MODIFIED:20250922T124806Z
UID:28556-1758650400-1758654900@cwpd.org
SUMMARY:Creek Connectivity
DESCRIPTION:All ages \n  \nSearch for and learn about the tiny creatures that have an important role in the creek ecosystem. Close-toed shoes are required. This is a Tools to Trek program. \n  \nRegistration deadline: Sunday\, September 21
URL:https://cwpd.org/event/creek-connectivity/
LOCATION:Grant Park\, 501 Normandy Ridge Rd.\, Centerville\, OH\, United States
ATTACH;FMTTYPE=image/jpeg:https://cwpd.org/wp-content/uploads/2020/01/120x120_creeks_rivers_oceans_actions_at_home_kit.jpg
END:VEVENT
BEGIN:VEVENT
DTSTART;TZID=America/New_York:20250921T140000
DTEND;TZID=America/New_York:20250921T160000
DTSTAMP:20260425T085812
CREATED:20250725T154752Z
LAST-MODIFIED:20250922T124800Z
UID:28554-1758463200-1758470400@cwpd.org
SUMMARY:Soothing Sounds at the Smith House
DESCRIPTION:All ages \n  \nJoin us for a relaxing afternoon on the Smith House lawn! Enjoy two hours of live piano music featuring your favorite tunes and classic oldies\, performed by local pianist Jimmy Douglass. Free refreshments will be available throughout the event. Don’t forget to bring a picnic blanket or lawn chair to sit back\, relax and enjoy the music! \n  \nRegistration is not required\, but registered participants will receive reminder and/or cancellation emails.
URL:https://cwpd.org/event/soothing-sounds-at-the-smith-house/
LOCATION:Bill Yeck Park\, Smith House\, 2230 E. Centerville Station Road\, Centerville\, OH\, 45459\, United States
ATTACH;FMTTYPE=image/png:https://cwpd.org/wp-content/uploads/2018/01/120x120_smith_house.png
END:VEVENT
BEGIN:VEVENT
DTSTART;TZID=America/New_York:20250920T110000
DTEND;TZID=America/New_York:20250920T120000
DTSTAMP:20260425T085812
CREATED:20250728T174857Z
LAST-MODIFIED:20250922T124752Z
UID:28550-1758366000-1758369600@cwpd.org
SUMMARY:Stability and Mobility with Airrosti - September
DESCRIPTION:Ages 16 and up (under 18 requires adult companion) \n  \nAirrosti’s Dr. Steven Miller and Adelle will teach you how to manage\, reduce and eliminate musculoskeletal pain through preventative self-myofascial release techniques using a foam roller\, lacrosse ball and banded exercises. This class will focus on the upper back and neck. If you have a foam roller\, lacrosse ball or mat\, please bring them. There will be a limited supply of foam rollers and lacrosse balls on hand to use. \n  \nRegistration deadline: Friday\, September 19
URL:https://cwpd.org/event/stability-and-mobility-with-airrosti-september/
LOCATION:Activity Center Park\, 221 N. Main St.\, Centerville\, OH\, 45459\, United States
ATTACH;FMTTYPE=image/png:https://cwpd.org/wp-content/uploads/2025/01/FoamRoller_120x120.png
END:VEVENT
BEGIN:VEVENT
DTSTART;TZID=America/New_York:20250920T100000
DTEND;TZID=America/New_York:20250920T113000
DTSTAMP:20260425T085812
CREATED:20250728T150219Z
LAST-MODIFIED:20250919T013840Z
UID:28548-1758362400-1758367800@cwpd.org
SUMMARY:Butterfly Survey
DESCRIPTION:Recommended for ages 8 and up \n  \nHelp contribute to research by joining the naturalist on butterfly surveys. Identify and count butterflies while observing other seasonal wildlife as we stroll. No experience is necessary. Trail is approximately one mile in length on uneven terrain. This is a Tools to Trek program. \n  \nRegistration deadline: Thursday\, September 18
URL:https://cwpd.org/event/butterfly-survey-4/
LOCATION:Grant Park\, 501 Normandy Ridge Rd.\, Centerville\, OH\, United States
ATTACH;FMTTYPE=image/png:https://cwpd.org/wp-content/uploads/2021/12/120x120-Monarch-Butterfly-on-Partridge-Pea.png
END:VEVENT
BEGIN:VEVENT
DTSTART;TZID=America/New_York:20250920T073000
DTEND;TZID=America/New_York:20250920T090000
DTSTAMP:20260425T085812
CREATED:20250728T160208Z
LAST-MODIFIED:20250919T013835Z
UID:28546-1758353400-1758358800@cwpd.org
SUMMARY:Birdwatching Walk
DESCRIPTION:Ages 16 and up \n  \nJoin us for a slow but exciting walk focused on our feathered friends. Participants will learn bird identification as we see who is chirping and chipping above us! Before we start\, we will learn about feather types. Bring binoculars if you have them; a limited supply will be available to borrow. \n  \nRegistration deadline: Thursday\, September 18
URL:https://cwpd.org/event/birdwatching-walk-3/
LOCATION:Grant Park\, 501 Normandy Ridge Rd.\, Centerville\, OH\, United States
ATTACH;FMTTYPE=image/jpeg:https://cwpd.org/wp-content/uploads/2020/01/Belted_Kingfisher_Western_Washington_State_04.jpg
END:VEVENT
BEGIN:VEVENT
DTSTART;TZID=America/New_York:20250919T170000
DTEND;TZID=America/New_York:20250919T190000
DTSTAMP:20260425T085812
CREATED:20250728T160154Z
LAST-MODIFIED:20250915T121240Z
UID:28544-1758301200-1758308400@cwpd.org
SUMMARY:Sunflower Bandana Wreath
DESCRIPTION:Ages 16 and up \n  \nThe sunflowers are blooming and so are we! Come and create a sunflower-inspired wreath with us\, perfect to welcome the chilly fall days and spread a little sunshine. All supplies and materials will be provided\, and no previous experience is needed to participate. \n  \nRegistration deadline: Friday\, September 12
URL:https://cwpd.org/event/sunflower-bandana-wreath/
LOCATION:Activity Center Park\, 221 N. Main St.\, Centerville\, OH\, 45459\, United States
ATTACH;FMTTYPE=image/png:https://cwpd.org/wp-content/uploads/2021/04/120x120-Sunflower-Grant-Park.png
END:VEVENT
BEGIN:VEVENT
DTSTART;TZID=America/New_York:20250918T180000
DTEND;TZID=America/New_York:20250918T200000
DTSTAMP:20260425T085812
CREATED:20250728T155241Z
LAST-MODIFIED:20250821T153426Z
UID:28533-1758218400-1758225600@cwpd.org
SUMMARY:Glass Fusing: Birch Trees
DESCRIPTION:Ages 16 and up \n  \nThis project is a 10.75″ square of glass for you to design a beautiful birch tree scene with the season of your choice. Complement your existing collection or pick your favorite season! Kathy Woodruff from Busy Beaver will lead participants through this customer-favorite class and help you start or complete your birch tree collection. \n  \nRegistration deadline: Thursday\, September 11
URL:https://cwpd.org/event/glass-fusing-birch-trees/
LOCATION:Activity Center Park\, 221 N. Main St.\, Centerville\, OH\, 45459\, United States
ATTACH;FMTTYPE=image/jpeg:https://cwpd.org/wp-content/uploads/2025/07/FallBirchTreesGlassFusing_120x120.jpg
END:VEVENT
BEGIN:VEVENT
DTSTART;TZID=America/New_York:20250918T180000
DTEND;TZID=America/New_York:20250918T190000
DTSTAMP:20260425T085812
CREATED:20250728T174924Z
LAST-MODIFIED:20250908T124039Z
UID:28536-1758218400-1758222000@cwpd.org
SUMMARY:Pickleball League Mixed Doubles Beginner
DESCRIPTION:Ages 18 and up\nThursdays\, September 18 – October 23 \n  \nJoin a Park District pickleball league and play pickleball in the parks this fall! Please note\, this is a league designed for players with a basic understanding of pickleball rules\, but who are still early in their pickleball skill development. No instruction/lessons are included in the league. \n  \nRegistration deadline: Sunday\, August 31
URL:https://cwpd.org/event/pickleball-league-mixed-doubles-beginner-thurs/
LOCATION:Activity Center Park\, 221 N. Main St.\, Centerville\, OH\, 45459\, United States
ATTACH;FMTTYPE=image/png:https://cwpd.org/wp-content/uploads/2016/08/120x120pickleball.png
END:VEVENT
BEGIN:VEVENT
DTSTART;TZID=America/New_York:20250918T180000
DTEND;TZID=America/New_York:20250918T190000
DTSTAMP:20260425T085812
CREATED:20250728T131304Z
LAST-MODIFIED:20250917T124011Z
UID:28538-1758218400-1758222000@cwpd.org
SUMMARY:Preschool Nature Series: Dragonflies
DESCRIPTION:Ages 3 – 5 with adult companion \n  \nThere are many different dragonfly species in Ohio! Their lifecycles include water and land. During this session\, we will search for their nymphs in the water and the adults in the meadow! Be prepared to get wet in the creek. Close-toed shoes are required. This is a Tools to Trek program. \n  \nRegistration deadline: Tuesday\, September 16
URL:https://cwpd.org/event/preschool-nature-series-dragonflies/
LOCATION:Bill Yeck Park\, McGuffey Meadow\, 7893 Wilmington-Dayton Rd.\, Dayton\, OH\, 45458\, United States
ATTACH;FMTTYPE=image/jpeg:https://cwpd.org/wp-content/uploads/2020/01/120x120_preschool_nature_series_plant_biology.jpg
END:VEVENT
BEGIN:VEVENT
DTSTART;TZID=America/New_York:20250917T180000
DTEND;TZID=America/New_York:20250917T190000
DTSTAMP:20260425T085812
CREATED:20250728T175309Z
LAST-MODIFIED:20250910T121048Z
UID:28531-1758132000-1758135600@cwpd.org
SUMMARY:Pickleball League Any Doubles Beginner
DESCRIPTION:Ages 18 and up\nWednesdays\, September 17 – October 22 \n  \nJoin a Park District pickleball league and play pickleball in the parks this fall! All leagues are 6 weeks long. This for-fun league is open to any doubles teams (men’s\, women’s\, or mixed doubles) at the beginner level. Please note\, this is a league designed for players with a basic understanding of pickleball rules\, but who are still early in their pickleball skill development. No instruction/lessons are included in the league. \n  \nRegistration deadline: Sunday\, August 31
URL:https://cwpd.org/event/pickleball-league-any-doubles-beginner/
LOCATION:Activity Center Park\, 221 N. Main St.\, Centerville\, OH\, 45459\, United States
ATTACH;FMTTYPE=image/png:https://cwpd.org/wp-content/uploads/2016/08/120x120pickleball.png
END:VEVENT
BEGIN:VEVENT
DTSTART;TZID=America/New_York:20250916T180000
DTEND;TZID=America/New_York:20250916T190000
DTSTAMP:20260425T085812
CREATED:20250728T175155Z
LAST-MODIFIED:20250908T124016Z
UID:28529-1758045600-1758049200@cwpd.org
SUMMARY:Pickleball League Mixed Doubles Intermediate
DESCRIPTION:Ages 18 and up\nTuesdays\, September 16 – October 21 \n  \nJoin a Park District pickleball league and play pickleball in the parks this fall! All leagues are 6 weeks long. Please note\, this is a league designed for players with a strong understanding of pickleball rules\, and who are at an intermediate level of competition. No instruction/lessons are included in the league. \n  \nRegistration deadline: Sunday\, August 31
URL:https://cwpd.org/event/pickleball-league-mixed-doubles-intermediate/
LOCATION:Activity Center Park\, 221 N. Main St.\, Centerville\, OH\, 45459\, United States
ATTACH;FMTTYPE=image/jpeg:https://cwpd.org/wp-content/uploads/pickleball_120x120.jpg
END:VEVENT
BEGIN:VEVENT
DTSTART;TZID=America/New_York:20250916T100000
DTEND;TZID=America/New_York:20250916T110000
DTSTAMP:20260425T085812
CREATED:20250728T130946Z
LAST-MODIFIED:20250910T170426Z
UID:28527-1758016800-1758020400@cwpd.org
SUMMARY:Crafts with Nature - Hello\, Fall!
DESCRIPTION:Ages 18 months – 4 years with adult companion \n  \nWe will complete crafts with nature/sensory themes\, read stories\, play games and take short hikes in the park. The theme for September is ‘Hello\, Fall!’. This program is limited to one adult companion per registrant. Backpacks and front carriers are appropriate if your child is not walking. Strollers are not recommended at parks with natural terrain. \n  \nRegistration deadline: Thursday\, September 11
URL:https://cwpd.org/event/crafts-with-nature-hello-fall/
LOCATION:Iron Horse Park\, 6161 Millshire Dr.\, Centerville\, OH\, 45459\, United States
ATTACH;FMTTYPE=image/png:https://cwpd.org/wp-content/uploads/2025/01/CreativeCrafting_120x120.png
END:VEVENT
BEGIN:VEVENT
DTSTART;TZID=America/New_York:20250915T180000
DTEND;TZID=America/New_York:20250915T191500
DTSTAMP:20260425T085812
CREATED:20250728T172659Z
LAST-MODIFIED:20250915T121227Z
UID:28523-1757959200-1757963700@cwpd.org
SUMMARY:Fitness for Longevity (formerly Fitness Yoga)
DESCRIPTION:Ages 18 and up\nMondays\, September 15 – October 20 \n  \nThis class is designed to help you maintain the strength\, mobility and power at age 100 that you have now. You’ll work motor units—which disappear if we don’t use them—and all types of muscle\, from slow twitch to fast twitch. All levels are welcome. Taught by certified yoga instructor Dan Loofboro. Please bring a yoga mat and water. \n  \nRegistration deadline: Friday\, September 12
URL:https://cwpd.org/event/fitness-yoga-b-2/
LOCATION:Activity Center Park\, 221 N. Main St.\, Centerville\, OH\, 45459\, United States
END:VEVENT
BEGIN:VEVENT
DTSTART;TZID=America/New_York:20250915T180000
DTEND;TZID=America/New_York:20250915T190000
DTSTAMP:20260425T085812
CREATED:20250728T175125Z
LAST-MODIFIED:20250821T153321Z
UID:28525-1757959200-1757962800@cwpd.org
SUMMARY:Pickleball League Any Doubles Intermediate
DESCRIPTION:Ages 18 and up\nMondays\, September 15 – October 20 \n  \nJoin a Park District pickleball league and play pickleball in the parks this fall! This for-fun league is open to any doubles teams (men’s\, women’s or mixed doubles) at the intermediate level. \n  \nRegistration deadline: Sunday\, August 31
URL:https://cwpd.org/event/pickleball-league-any-doubles-intermediate/
LOCATION:Activity Center Park\, 221 N. Main St.\, Centerville\, OH\, 45459\, United States
ATTACH;FMTTYPE=image/jpeg:https://cwpd.org/wp-content/uploads/pickleball_120x120.jpg
END:VEVENT
BEGIN:VEVENT
DTSTART;TZID=America/New_York:20250914T163000
DTEND;TZID=America/New_York:20250914T173000
DTSTAMP:20260425T085812
CREATED:20250728T175049Z
LAST-MODIFIED:20250908T123953Z
UID:28521-1757867400-1757871000@cwpd.org
SUMMARY:Pickleball League Any Doubles My Teen & Me
DESCRIPTION:Ages 12 – 17 plus a family member over 21\nSundays\, September 14 – October 19 \n  \nJoin a Park District pickleball league and play pickleball in the parks this fall! This for-fun league is open to any doubles teams (men’s\, women’s\, or mixed doubles) comprised of a teen and their parent/guardian or other close family member over the age of 21. \n  \nRegistration deadline: Sunday\, August 31
URL:https://cwpd.org/event/pickleball-league-any-doubles-my-teen-me-3/
LOCATION:Activity Center Park\, 221 N. Main St.\, Centerville\, OH\, 45459\, United States
ATTACH;FMTTYPE=image/png:https://cwpd.org/wp-content/uploads/2016/08/120x120pickleball.png
END:VEVENT
BEGIN:VEVENT
DTSTART;TZID=America/New_York:20250914T090000
DTEND;TZID=America/New_York:20250914T103000
DTSTAMP:20260425T085812
CREATED:20250728T175026Z
LAST-MODIFIED:20250915T121156Z
UID:28517-1757840400-1757845800@cwpd.org
SUMMARY:Bike About Centerville\, Ride A
DESCRIPTION:Ages 18 and up \n  \nTake advantage of this opportunity to explore Centerville and Washington Township by bicycle. The ride will be led by trained and experienced bike leaders and will help you learn routes to shopping\, parks and more! Rides will be an easy-paced 10 to 15 miles that start and end at a park. \n  \nRegistration deadline: Thursday\, September 11
URL:https://cwpd.org/event/bike-about-centerville-ride-a/
LOCATION:Old Lane Park\, 500 Druewood Lane\, Dayton\, OH\, 45459
ATTACH;FMTTYPE=image/jpeg:https://cwpd.org/wp-content/uploads/bike_120x120.jpg
END:VEVENT
BEGIN:VEVENT
DTSTART;TZID=America/New_York:20250912T103000
DTEND;TZID=America/New_York:20250912T113000
DTSTAMP:20260425T085812
CREATED:20250728T150150Z
LAST-MODIFIED:20250915T121142Z
UID:28505-1757673000-1757676600@cwpd.org
SUMMARY:Nature Fun: An Outdoor Family Storytime
DESCRIPTION:All ages\nFridays\, September 12 & October 31 \n  \nFamilies are invited to join us outside to listen to a story brought to you by the Washington-Centerville Public Library! Participate in nature-themed activities following the story. Families are encouraged to bring a blanket to sit on. All sessions are Tools to Trek programs. \n  \nRegistration is not required but is recommended.
URL:https://cwpd.org/event/nature-fun-an-outdoor-family-storytime/
LOCATION:Grant Park\, Kennard Nature Nook\, 6588 McEwen Rd.\, Centerville\, OH\, 45459\, United States
ATTACH;FMTTYPE=image/jpeg:https://cwpd.org/wp-content/uploads/2020/01/Storytime-Stroll.jpg
END:VEVENT
BEGIN:VEVENT
DTSTART;TZID=America/New_York:20250911T180000
DTEND;TZID=America/New_York:20250911T193000
DTSTAMP:20260425T085812
CREATED:20250728T154500Z
LAST-MODIFIED:20250910T121004Z
UID:28503-1757613600-1757619000@cwpd.org
SUMMARY:Hike with a Naturalist
DESCRIPTION:Ages 18 and up \n  \nJoin us on a stroll through your park! A naturalist will point out seasonal changes and discuss the wildlife we observe. Hike is on a natural path. \n  \nRegistration deadline: Tuesday\, September 9
URL:https://cwpd.org/event/hike-with-a-naturalist-7/
LOCATION:Bill Yeck Park\, Rooks Mill Entrance\, 8798 Rooks Mill Ln\, Dayton\, OH\, 45458\, United States
ATTACH;FMTTYPE=image/jpeg:https://cwpd.org/wp-content/uploads/naturalist_120x120.jpg
END:VEVENT
BEGIN:VEVENT
DTSTART;TZID=America/New_York:20250911T080000
DTEND;TZID=America/New_York:20250911T170000
DTSTAMP:20260425T085812
CREATED:20250728T131017Z
LAST-MODIFIED:20250908T123910Z
UID:28499-1757577600-1757610000@cwpd.org
SUMMARY:Creative Kids Corner: Take Home Kits
DESCRIPTION:Recommend for ages 3 – 5\nThursdays\, September 11\, October 9 & November 13 \n  \nThis take-home kit features crafts and activities revolving around a fun nature-based seasonal theme! There will be three different kits — one for each month! \n  \nRegistration deadline: Thursday\, September 4
URL:https://cwpd.org/event/creative-kids-corner-take-home-kits-3/
LOCATION:OH
ATTACH;FMTTYPE=image/png:https://cwpd.org/wp-content/uploads/2025/01/CreativeCrafting_120x120.png
END:VEVENT
BEGIN:VEVENT
DTSTART;TZID=America/New_York:20250910T180000
DTEND;TZID=America/New_York:20250910T191500
DTSTAMP:20260425T085812
CREATED:20250728T172603Z
LAST-MODIFIED:20250910T120959Z
UID:28497-1757527200-1757531700@cwpd.org
SUMMARY:Fitness for Longevity (formerly Fitness Yoga)
DESCRIPTION:Ages 18 and up\nWednesdays\, September 10 – October 15 \n  \nThis class is designed to help you maintain the strength\, mobility and power at age 100 that you have now. You’ll work motor units—which disappear if we don’t use them—and all types of muscle\, from slow twitch to fast twitch. All levels are welcome. Taught by certified yoga instructor Dan Loofboro. Please bring a yoga mat and water. \n  \nRegistration deadline: Monday\, September 8
URL:https://cwpd.org/event/fitness-yoga-a-3/
LOCATION:Grant Park\, Kennard Nature Nook\, 6588 McEwen Rd.\, Centerville\, OH\, 45459\, United States
ATTACH;FMTTYPE=image/jpeg:https://cwpd.org/wp-content/uploads/yogainthepark_120x120.jpg
END:VEVENT
END:VCALENDAR