BEGIN:VCALENDAR
VERSION:2.0
PRODID:-//Centerville-Washington Park District - ECPv6.0.12//NONSGML v1.0//EN
CALSCALE:GREGORIAN
METHOD:PUBLISH
X-WR-CALNAME:Centerville-Washington Park District
X-ORIGINAL-URL:https://cwpd.org
X-WR-CALDESC:Events for Centerville-Washington Park District
REFRESH-INTERVAL;VALUE=DURATION:PT1H
X-Robots-Tag:noindex
X-PUBLISHED-TTL:PT1H
BEGIN:VTIMEZONE
TZID:America/New_York
BEGIN:DAYLIGHT
TZOFFSETFROM:-0500
TZOFFSETTO:-0400
TZNAME:EDT
DTSTART:20250309T070000
END:DAYLIGHT
BEGIN:STANDARD
TZOFFSETFROM:-0400
TZOFFSETTO:-0500
TZNAME:EST
DTSTART:20251102T060000
END:STANDARD
END:VTIMEZONE
BEGIN:VEVENT
DTSTART;TZID=America/New_York:20250804T130000
DTEND;TZID=America/New_York:20250806T160000
DTSTAMP:20260425T163425
CREATED:20250318T201252Z
LAST-MODIFIED:20250727T182906Z
UID:27671-1754312400-1754496000@cwpd.org
SUMMARY:Archery Adventures Camp B (ages 12-15)
DESCRIPTION:Ages 12 – 15\nMonday – Wednesday\, August 4 – 6\n(Rain date: Thursday\, August 7) \n  \nArchery and nature education combined! Campers will learn the basics of archery\, play water games\, learn about local wildlife\, play archery tag and practice with 3D targets. \n  \nRegistration deadline: Monday\, July 28
URL:https://cwpd.org/event/archery-adventures-camp-b-ages-12-15/
LOCATION:Oak Grove Park\, 1790 E. Social Row Rd.\, Centerville\, OH\, 45458\, United States
ATTACH;FMTTYPE=image/jpeg:https://cwpd.org/wp-content/uploads/2020/07/120x120_archery.jpg
END:VEVENT
BEGIN:VEVENT
DTSTART;TZID=America/New_York:20250803T163000
DTEND;TZID=America/New_York:20250803T173000
DTSTAMP:20260425T163425
CREATED:20250428T202044Z
LAST-MODIFIED:20250720T193240Z
UID:28088-1754238600-1754242200@cwpd.org
SUMMARY:Pickleball League Any Doubles My Teen & Me B
DESCRIPTION:Ages 12 – 17 plus a family member over 21\nSundays\, August 3 – September 7 \n  \nJoin a Park District pickleball league and play pickleball in the parks this summer! This for-fun league is open to any doubles teams (men’s\, women’s\, or mixed doubles) comprised of a teen and their parent/guardian or other close family member over the age of 21. Please register your teen and list the participating family member in the questions. Both players must have an online account set up on the same household profile. There is no single player will call for this league. \n  \nRegistration deadline: Sunday\, July 20
URL:https://cwpd.org/event/pickleball-league-any-doubles-my-teen-me-b/
LOCATION:Activity Center Park\, 221 N. Main St.\, Centerville\, OH\, 45459\, United States
ATTACH;FMTTYPE=image/jpeg:https://cwpd.org/wp-content/uploads/pickleball_120x120.jpg
END:VEVENT
BEGIN:VEVENT
DTSTART;TZID=America/New_York:20250802T100000
DTEND;TZID=America/New_York:20250802T113000
DTSTAMP:20260425T163425
CREATED:20250428T160708Z
LAST-MODIFIED:20250801T110344Z
UID:28082-1754128800-1754134200@cwpd.org
SUMMARY:Creek Peek: Beaver Fever!
DESCRIPTION:All ages \n  \nLearn everything about nature’s construction workers! Can we build things as well as a beaver? Come ready to play in the creek! Close-toed shoes are required. This is a Tools to Trek program. \n  \nRegistration deadline: Thursday\, July 31
URL:https://cwpd.org/event/creek-peek-beaver-fever/
LOCATION:Bill Yeck Park\, McGuffey Meadow\, 7893 Wilmington-Dayton Rd.\, Dayton\, OH\, 45458\, United States
ATTACH;FMTTYPE=image/jpeg:https://cwpd.org/wp-content/uploads/beaver_120x120.jpg
END:VEVENT
BEGIN:VEVENT
DTSTART;TZID=America/New_York:20250731T180000
DTEND;TZID=America/New_York:20250731T200000
DTSTAMP:20260425T163425
CREATED:20250428T160606Z
LAST-MODIFIED:20250729T193007Z
UID:28080-1753984800-1753992000@cwpd.org
SUMMARY:Mini Evening Campout
DESCRIPTION:All ages \n  \nLearn family fun camping skills — how to set up a tent\, start a campfire to toast the best marshmallows\, what sticks are best to cook with over an open fire\, and other useful things to know before heading out! Also\, learn the best things to bring with you! \n  \nRegistration deadline: Tuesday\, July 29
URL:https://cwpd.org/event/mini-evening-campout/
LOCATION:Bill Yeck Park\, Smith House\, 2230 E. Centerville Station Road\, Centerville\, OH\, 45459\, United States
ATTACH;FMTTYPE=image/jpeg:https://cwpd.org/wp-content/uploads/2018/10/120x120_campfire_programs_centerville_ohio-1.jpg
END:VEVENT
BEGIN:VEVENT
DTSTART;TZID=America/New_York:20250731T180000
DTEND;TZID=America/New_York:20250731T193000
DTSTAMP:20260425T163425
CREATED:20250428T181652Z
LAST-MODIFIED:20250718T143203Z
UID:28078-1753984800-1753990200@cwpd.org
SUMMARY:Glass Fusing: Whimsical Garden Décor
DESCRIPTION:Ages 16 and up \n  \nAdd more color to your garden with glass décor. Kathy Woodruff from Busy Beaver will lead participants through the basics of glass fusing. Create two small pieces to stake in your garden. \n  \nRegistration deadline: Sunday\, July 27
URL:https://cwpd.org/event/glass-fusing-whimsical-garden-decor-4/
LOCATION:Activity Center Park\, 221 N. Main St.\, Centerville\, OH\, 45459\, United States
ATTACH;FMTTYPE=image/jpeg:https://cwpd.org/wp-content/uploads/2024/01/120x120-glass-fusing-garden.jpg
END:VEVENT
BEGIN:VEVENT
DTSTART;TZID=America/New_York:20250729T180000
DTEND;TZID=America/New_York:20250729T200000
DTSTAMP:20260425T163425
CREATED:20250428T143157Z
LAST-MODIFIED:20250727T182824Z
UID:28076-1753812000-1753819200@cwpd.org
SUMMARY:Conservation Crew: Invasive Plant Control
DESCRIPTION:Ages 12 – 18 \n  \nThe Conservation Crew will take charge of a native wildflower meadow\, removing invasive plants to promote pollinator habitat. If you have work gloves\, please bring them. We will have some on hand to borrow. \n  \nRegistration deadline: Sunday\, July 27
URL:https://cwpd.org/event/conservation-crew-invasive-plant-control/
LOCATION:Forest Field Park\, 2100 E. Centerville Station Rd.\, Centerville\, OH\, 45459\, United States
ATTACH;FMTTYPE=image/jpeg:https://cwpd.org/wp-content/uploads/conservation_120x120.jpg
END:VEVENT
BEGIN:VEVENT
DTSTART;TZID=America/New_York:20250729T170000
DTEND;TZID=America/New_York:20250729T190000
DTSTAMP:20260425T163425
CREATED:20250428T192033Z
LAST-MODIFIED:20250718T143118Z
UID:28073-1753808400-1753815600@cwpd.org
SUMMARY:Summer Pressed Flowers
DESCRIPTION:Ages 14 and up \n  \nThis class will begin with an introduction to various flower pressing and preserving methods. After that\, we will press some flowers of our own and make mini art with dried flowers. Participants may choose to add on a wooden flower press for an additional fee if they have not taken this class before. \n  \nRegistration deadline: Friday\, July 22
URL:https://cwpd.org/event/summer-pressed-flowers/
LOCATION:Grant Park\, Kennard Nature Nook\, 6588 McEwen Rd.\, Centerville\, OH\, 45459\, United States
ATTACH;FMTTYPE=image/jpeg:https://cwpd.org/wp-content/uploads/2025/04/PressedFlowers_120x120.jpg
END:VEVENT
BEGIN:VEVENT
DTSTART;TZID=America/New_York:20250728T180000
DTEND;TZID=America/New_York:20250728T191500
DTSTAMP:20260425T163425
CREATED:20250430T150713Z
LAST-MODIFIED:20250727T182819Z
UID:28067-1753725600-1753730100@cwpd.org
SUMMARY:Fitness Yoga D
DESCRIPTION:Ages 18 and up\nMondays\, July 28 – September 8\n(No class September 1) \n  \nYou will get it all in one fitness class — a challenging workout\, yoga practice\, as well as mindfulness and functional movement for vitality and longevity. All levels are welcome. Taught by certified yoga instructor Dan Loofboro. Please bring a yoga mat and water. \n  \n*Please note that this class is in a different location than we listed in the printed program guide.* \n  \nRegistration deadline: Friday\, July 25
URL:https://cwpd.org/event/fitness-yoga-d/
LOCATION:Activity Center Park\, 221 N. Main St.\, Centerville\, OH\, 45459\, United States
ATTACH;FMTTYPE=image/jpeg:https://cwpd.org/wp-content/uploads/yogainthepark_120x120.jpg
END:VEVENT
BEGIN:VEVENT
DTSTART;TZID=America/New_York:20250726T110000
DTEND;TZID=America/New_York:20250726T140000
DTSTAMP:20260425T163425
CREATED:20250425T174712Z
LAST-MODIFIED:20250727T182803Z
UID:28064-1753527600-1753538400@cwpd.org
SUMMARY:BIG Backyard Party
DESCRIPTION:All ages \n  \nThe 9th annual BIG Backyard Party is here! Join us for an afternoon full of hands-on activities all ages and abilities can enjoy. Activities will include inflatables\, fishing\, archery\, field games\, and so much more! Two hundred free fishing poles are available for children ages 14 and under thanks to a grant from the Ohio Department of Natural Resources. This program is made possible by several ongoing community partnerships. \n  \nRegistration is requested.
URL:https://cwpd.org/event/big-backyard-party-2/
LOCATION:Oak Grove Park\, 1790 E. Social Row Rd.\, Centerville\, OH\, 45458\, United States
ATTACH;FMTTYPE=image/jpeg:https://cwpd.org/wp-content/uploads/2025/04/BigBackyardParty_120x120.jpg
END:VEVENT
BEGIN:VEVENT
DTSTART;TZID=America/New_York:20250726T090000
DTEND;TZID=America/New_York:20250726T100000
DTSTAMP:20260425T163425
CREATED:20250430T152742Z
LAST-MODIFIED:20250627T133241Z
UID:28062-1753520400-1753524000@cwpd.org
SUMMARY:Yoga in the Park D
DESCRIPTION:Ages 18 and up\nSaturdays\, July 26 – August 30 \n  \nMegan Lees of Method Yoga Studio leads these yoga classes for all levels. Classes include a warm-up\, breath work\, standing poses\, flowing poses\, and end with relaxation. \n  \nRegistration deadline: Wednesday\, July 23
URL:https://cwpd.org/event/yoga-in-the-park-d-4/
LOCATION:Grant Park\, Kennard Nature Nook\, 6588 McEwen Rd.\, Centerville\, OH\, 45459\, United States
ATTACH;FMTTYPE=image/png:https://cwpd.org/wp-content/uploads/2022/04/120x120-yoga.png
END:VEVENT
BEGIN:VEVENT
DTSTART;TZID=America/New_York:20250726T074500
DTEND;TZID=America/New_York:20250726T084500
DTSTAMP:20260425T163425
CREATED:20250430T152702Z
LAST-MODIFIED:20250514T192156Z
UID:28060-1753515900-1753519500@cwpd.org
SUMMARY:Yoga in the Park C
DESCRIPTION:Ages 18 and up\nSaturdays\, July 26 – August 30 \n  \nMegan Lees of Method Yoga Studio leads these yoga classes for all levels. Classes include a warm-up\, breath work\, standing poses\, flowing poses\, and end with relaxation. \n  \nRegistration deadline: Wednesday\, July 23
URL:https://cwpd.org/event/yoga-in-the-park-c-4/
LOCATION:Grant Park\, Kennard Nature Nook\, 6588 McEwen Rd.\, Centerville\, OH\, 45459\, United States
ATTACH;FMTTYPE=image/png:https://cwpd.org/wp-content/uploads/2022/04/120x120-yoga.png
END:VEVENT
BEGIN:VEVENT
DTSTART;TZID=America/New_York:20250725T180000
DTEND;TZID=America/New_York:20250725T190000
DTSTAMP:20260425T163425
CREATED:20250428T155946Z
LAST-MODIFIED:20250723T192311Z
UID:28058-1753466400-1753470000@cwpd.org
SUMMARY:Creek Peek: Hidden Wonders Beneath the Rocks
DESCRIPTION:All ages \n  \nWant to learn more about what hides out under rocks in and near waterways? Come find out who considers these rocks home and why these creatures live the way they do. Later\, paint a rock resembling your discoveries! Dress to be in the creek. Close-toed shoes are required. This is a Tools to Trek Program. \n  \nRegistration deadline: Wednesday\, July 23
URL:https://cwpd.org/event/creek-peek-hidden-wonders-beneath-the-rocks/
LOCATION:Grant Park\, 501 Normandy Ridge Rd.\, Centerville\, OH\, United States
ATTACH;FMTTYPE=image/jpeg:https://cwpd.org/wp-content/uploads/2020/01/120x120_creeks_rivers_oceans_actions_at_home_kit.jpg
END:VEVENT
BEGIN:VEVENT
DTSTART;TZID=America/New_York:20250723T180000
DTEND;TZID=America/New_York:20250723T191500
DTSTAMP:20260425T163425
CREATED:20250430T152040Z
LAST-MODIFIED:20250720T193228Z
UID:28056-1753293600-1753298100@cwpd.org
SUMMARY:Fitness Yoga C
DESCRIPTION:Ages 18 and up\nWednesdays\, July 23 – August 27 \n  \nYou will get it all in one fitness class — a challenging workout\, yoga practice\, as well as mindfulness and functional movement for vitality and longevity. All levels are welcome. Taught by certified yoga instructor Dan Loofboro. Please bring a yoga mat and water. \n  \nRegistration deadline: Monday\, July 21
URL:https://cwpd.org/event/fitness-yoga-c/
LOCATION:Grant Park\, Kennard Nature Nook\, 6588 McEwen Rd.\, Centerville\, OH\, 45459\, United States
ATTACH;FMTTYPE=image/jpeg:https://cwpd.org/wp-content/uploads/yogainthepark_120x120.jpg
END:VEVENT
BEGIN:VEVENT
DTSTART;TZID=America/New_York:20250722T180000
DTEND;TZID=America/New_York:20250722T190000
DTSTAMP:20260425T163425
CREATED:20250425T182715Z
LAST-MODIFIED:20250716T163941Z
UID:28054-1753207200-1753210800@cwpd.org
SUMMARY:Crafts with Nature - I Love the Earth
DESCRIPTION:Ages 18 months – 4 years with adult companion \n  \nWe will complete crafts with nature/sensory themes\, read stories\, play games and take short hikes in the park. This program is limited to one adult companion per registrant. If your child is not walking\, backpacks and front carriers are appropriate. Strollers are not recommended for parks with natural terrain. \n  \nRegistration deadline: Wednesday\, July 16
URL:https://cwpd.org/event/crafts-with-nature-i-love-the-earth/
LOCATION:Bill Yeck Park\, Smith House\, 2230 E. Centerville Station Road\, Centerville\, OH\, 45459\, United States
ATTACH;FMTTYPE=image/png:https://cwpd.org/wp-content/uploads/2025/01/CreativeCrafting_120x120.png
END:VEVENT
BEGIN:VEVENT
DTSTART;TZID=America/New_York:20250722T161500
DTEND;TZID=America/New_York:20250722T174500
DTSTAMP:20260425T163425
CREATED:20250428T195050Z
LAST-MODIFIED:20250728T130515Z
UID:28052-1753200900-1753206300@cwpd.org
SUMMARY:Beginner Pickleball Lessons - Session B
DESCRIPTION:Ages 18 and up\nUPDATED: Tuesdays\, July 22 – August 26\n(No class August 5 or 12) \n  \nJoin Certified Pickleball Trainer James Lawson to develop the introductory skills to level up your pickleball game. This 4-week lesson is designed for the beginner player looking to develop basic skills to move up to a more competitive level of play. This program will move indoors for adapted lessons in inclement weather. \n  \nRegistration deadline: Friday\, July 18
URL:https://cwpd.org/event/beginner-pickleball-lessons-session-b/
LOCATION:Activity Center Park\, 221 N. Main St.\, Centerville\, OH\, 45459\, United States
ATTACH;FMTTYPE=image/jpeg:https://cwpd.org/wp-content/uploads/pickleball_120x120.jpg
END:VEVENT
BEGIN:VEVENT
DTSTART;TZID=America/New_York:20250721T090000
DTEND;TZID=America/New_York:20250725T160000
DTSTAMP:20260425T163425
CREATED:20250318T200654Z
LAST-MODIFIED:20250714T115232Z
UID:27622-1753088400-1753459200@cwpd.org
SUMMARY:Naturalist Camp: Scientific Surveys
DESCRIPTION:Ages 12 – 15 \n  \nWe will conduct wildlife surveys\, climb trees with EarthJoy\, hike\, go creeking\, and take on silly team challenges. Each week will have a different nature theme to study. We will spend one day each week at Oak Grove Park where we will focus on archery\, special activities and challenges related to our weekly theme. \n  \nRegistration deadline: Monday\, July 14
URL:https://cwpd.org/event/naturalist-camp-scientific-surveys/
LOCATION:Grant Park\, Kennard Nature Nook\, 6588 McEwen Rd.\, Centerville\, OH\, 45459\, United States
ATTACH;FMTTYPE=image/jpeg:https://cwpd.org/wp-content/uploads/2020/03/Adventure-Camp-10-Edit.jpg
END:VEVENT
BEGIN:VEVENT
DTSTART;TZID=America/New_York:20250720T100000
DTEND;TZID=America/New_York:20250720T123000
DTSTAMP:20260425T163425
CREATED:20250430T155716Z
LAST-MODIFIED:20250728T174828Z
UID:28050-1753005600-1753014600@cwpd.org
SUMMARY:Bike Centerville Advanced Ride A
DESCRIPTION:Ages 18 and up \n  \nTake advantage of this opportunity to explore Centerville and Dayton by bicycle. The ride will be led by trained and experienced bike leaders and will help you learn routes to shopping\, parks and more! This ride will take our Bike Centerville Community Rides up a level and be approximately 22 miles. \n  \nRegistration deadline: Friday\, July 18
URL:https://cwpd.org/event/bike-centerville-advanced-ride-a-july-7-20/
LOCATION:Manor Park\, 989 Thorndale Drive\, Centerville\, OH\, 45429
ATTACH;FMTTYPE=image/jpeg:https://cwpd.org/wp-content/uploads/bike_120x120.jpg
END:VEVENT
BEGIN:VEVENT
DTSTART;TZID=America/New_York:20250719T170000
DTEND;TZID=America/New_York:20250719T183000
DTSTAMP:20260425T163425
CREATED:20250428T142837Z
LAST-MODIFIED:20250710T104158Z
UID:28048-1752944400-1752949800@cwpd.org
SUMMARY:Hedgehog Hideaways: Beginner Needle Felting
DESCRIPTION:Ages 8 – 12 \n  \nLearn how to needle felt with us and create a cute and cuddly friend to take home. This class will cover the basic techniques\, supplies\, and safety considerations needed to create figures from wool. Note\, we will be working with real needles in the class! No previous experience is needed\, and all supplies will be provided. \n  \nRegistration deadline: Saturday\, July 5
URL:https://cwpd.org/event/hedgehog-hideaways-beginner-needle-felting/
LOCATION:Grant Park\, Kennard Nature Nook\, 6588 McEwen Rd.\, Centerville\, OH\, 45459\, United States
ATTACH;FMTTYPE=image/jpeg:https://cwpd.org/wp-content/uploads/2023/08/NeedleFelting_120x120-jpg.webp
END:VEVENT
BEGIN:VEVENT
DTSTART;TZID=America/New_York:20250719T130000
DTEND;TZID=America/New_York:20250719T153000
DTSTAMP:20260425T163425
CREATED:20250428T185903Z
LAST-MODIFIED:20250714T115210Z
UID:28046-1752930000-1752939000@cwpd.org
SUMMARY:Watercolor Waterfall - Panoramic Edition
DESCRIPTION:Ages 18 and up \n  \nIn this workshop\, we will create panoramic waterfall paintings using resistance techniques. We will start with a quick warm-up exercise and wrap up with a full-color watercolor of a waterfall. We will be using studio materials. Leave the class with a panoramic waterfall painting. All skill levels are welcome! This class is best for beginner to advanced level participants. \n  \nRegistration deadline: Friday\, July 11
URL:https://cwpd.org/event/watercolor-waterfall-panoramic-edition/
LOCATION:Activity Center Park\, 221 N. Main St.\, Centerville\, OH\, 45459\, United States
ATTACH;FMTTYPE=image/jpeg:https://cwpd.org/wp-content/uploads/2024/01/120x120_watercolor-class.jpg
END:VEVENT
BEGIN:VEVENT
DTSTART;TZID=America/New_York:20250719T100000
DTEND;TZID=America/New_York:20250719T113000
DTSTAMP:20260425T163425
CREATED:20250428T155233Z
LAST-MODIFIED:20250718T142913Z
UID:28041-1752919200-1752924600@cwpd.org
SUMMARY:Butterfly Survey
DESCRIPTION:Recommended for ages 8 and up \n  \nHelp contribute to research by joining the naturalist on butterfly surveys. Identify and count butterflies while observing other seasonal wildlife as we stroll. No experience is necessary. Trail is approximately one mile in length on uneven terrain. This is a Tools to Trek program. \n  \nRegistration deadline: Thursday\, July 17
URL:https://cwpd.org/event/butterfly-survey-3/
LOCATION:Grant Park\, 501 Normandy Ridge Rd.\, Centerville\, OH\, United States
ATTACH;FMTTYPE=image/png:https://cwpd.org/wp-content/uploads/2021/12/120x120-Monarch-Butterfly-on-Partridge-Pea.png
END:VEVENT
BEGIN:VEVENT
DTSTART;TZID=America/New_York:20250719T100000
DTEND;TZID=America/New_York:20250719T113000
DTSTAMP:20260425T163425
CREATED:20250428T143635Z
LAST-MODIFIED:20250718T142839Z
UID:28039-1752919200-1752924600@cwpd.org
SUMMARY:Young Birders Club Meeting
DESCRIPTION:Ages 12 – 18\nBellbrook-Sugarcreek Park District\n2751 Washington Mill Rd\, Bellbrook\, OH 45305 \n  \nKettering PRCA and Centerville-Washington Park District are collaborating to bring the joy of bird watching to our youth.\nBird watching and identification is a fun and rewarding hobby and also a great place to make friends. Light snacks are provided. Participants must become members of the Ohio Young Birders Club and be between the ages of 12 and 18. \n  \nProgram Code: 03-30240-B (registration through Kettering)
URL:https://cwpd.org/event/young-birders-club-meeting-2/
LOCATION:OH
ATTACH;FMTTYPE=image/jpeg:https://cwpd.org/wp-content/uploads/2020/01/Belted_Kingfisher_Western_Washington_State_04.jpg
END:VEVENT
BEGIN:VEVENT
DTSTART;TZID=America/New_York:20250718T093000
DTEND;TZID=America/New_York:20250718T103000
DTSTAMP:20260425T163425
CREATED:20250425T185033Z
LAST-MODIFIED:20250714T115122Z
UID:28036-1752831000-1752834600@cwpd.org
SUMMARY:Bubbles & Bubble Art
DESCRIPTION:Recommended for ages 3 – 7 with parent/guardian \n  \nLet’s explore bubbles with a bubble party! We will create a unique craft using bubbles\, and enjoy bubble playtime and a story! \n  \nRegistration deadline: Sunday\, July 13
URL:https://cwpd.org/event/bubbles-bubble-art/
LOCATION:Schoolhouse Park\, 1875 Nutt Rd.\, Dayton\, OH\, 45458\, United States
ATTACH;FMTTYPE=image/jpeg:https://cwpd.org/wp-content/uploads/2025/04/BubbleHike_120x120.jpg
END:VEVENT
BEGIN:VEVENT
DTSTART;TZID=America/New_York:20250717T180000
DTEND;TZID=America/New_York:20250717T200000
DTSTAMP:20260425T163425
CREATED:20250428T192002Z
LAST-MODIFIED:20250709T171853Z
UID:28033-1752775200-1752782400@cwpd.org
SUMMARY:Needle Felting Dryer Balls
DESCRIPTION:Ages 16 and up \n  \nWe will cover the basics of needle felting and decorate a set of environmentally friendly dryer balls. They can be used instead of dryer sheets as a more natural and sustainable alternative. No prior experience is needed and all supplies will be provided. You are welcome to bring your own tools or dryer balls. \n  \nRegistration deadline: Thursday\, July 10
URL:https://cwpd.org/event/needle-felting-dryer-balls/
LOCATION:Bill Yeck Park\, Smith House\, 2230 E. Centerville Station Road\, Centerville\, OH\, 45459\, United States
ATTACH;FMTTYPE=image/jpeg:https://cwpd.org/wp-content/uploads/2025/04/NeedleFeltDryerBall_120x120.jpg
END:VEVENT
BEGIN:VEVENT
DTSTART;TZID=America/New_York:20250715T180000
DTEND;TZID=America/New_York:20250715T190000
DTSTAMP:20260425T163425
CREATED:20250430T155012Z
LAST-MODIFIED:20250707T134620Z
UID:28026-1752602400-1752606000@cwpd.org
SUMMARY:Dance Fitness with Emily
DESCRIPTION:Ages 18 and up\nTuesdays\, July 15 – August 26\n(No class August 12) \n  \nWe dance to various styles of music (Latin\, hip hop\, pop\, global rhythms\, etc.) which provides a good mix of low to high-intensity moves. Instructor Emily Chandler strives to make this class high-energy and a lot of fun! We can guarantee you’ll leave this class feeling great! Please bring a bottle of water. \n  \nRegistration deadline: Sunday\, July 13
URL:https://cwpd.org/event/dance-fitness-with-emily/
LOCATION:Activity Center Park\, 221 N. Main St.\, Centerville\, OH\, 45459\, United States
ATTACH;FMTTYPE=image/jpeg:https://cwpd.org/wp-content/uploads/2025/04/120x120_dance-fitness.jpg
END:VEVENT
BEGIN:VEVENT
DTSTART;TZID=America/New_York:20250715T180000
DTEND;TZID=America/New_York:20250715T190000
DTSTAMP:20260425T163425
CREATED:20250425T184517Z
LAST-MODIFIED:20250714T115114Z
UID:28029-1752602400-1752606000@cwpd.org
SUMMARY:Window Flower Art
DESCRIPTION:Ages 3 – 6 \n  \nWildflowers are not just something to admire\, they are built perfectly to attract pollinators! Learn about the parts of wildflowers by creating a work of art for your window! All supplies will be provided. This is a Tools to Trek program. \n  \nRegistration deadline: Sunday\, July 13
URL:https://cwpd.org/event/window-flower-art/
LOCATION:Yankee Park\, 7500 Yankee St.\, Centerville\, OH\, 45459\, United States
END:VEVENT
BEGIN:VEVENT
DTSTART;TZID=America/New_York:20250714T130000
DTEND;TZID=America/New_York:20250716T160000
DTSTAMP:20260425T163425
CREATED:20250318T200239Z
LAST-MODIFIED:20250514T191952Z
UID:27614-1752498000-1752681600@cwpd.org
SUMMARY:Archery Adventures Camp A (ages 9-11)
DESCRIPTION:Ages 9 – 11\nMonday – Wednesday\, July 14 – 16\n(Rain date: Thursday\, July 17) \n  \nArchery and nature education combined! Campers will learn the basics of archery\, play water games\, learn about local wildlife\, play archery tag and practice with 3D targets. \n  \nRegistration deadline: Monday\, July 7
URL:https://cwpd.org/event/archery-adventures-camp-a-ages-9-11-2/
LOCATION:Oak Grove Park\, 1790 E. Social Row Rd.\, Centerville\, OH\, 45458\, United States
ATTACH;FMTTYPE=image/jpeg:https://cwpd.org/wp-content/uploads/2020/07/120x120_archery.jpg
END:VEVENT
BEGIN:VEVENT
DTSTART;TZID=America/New_York:20250714T130000
DTEND;TZID=America/New_York:20250716T160000
DTSTAMP:20260425T163425
CREATED:20250318T200232Z
LAST-MODIFIED:20250706T160859Z
UID:27612-1752498000-1752681600@cwpd.org
SUMMARY:Archery Adventures Camp A (ages 12-15)
DESCRIPTION:Ages 12 – 15 \n  \nArchery and nature education combined! Campers will learn the basics of archery\, play water games\, learn about local wildlife\, play archery tag and practice with 3D targets. \n  \nRegistration deadline: Monday\, July 7
URL:https://cwpd.org/event/archery-adventures-camp-a-ages-12-15/
LOCATION:Oak Grove Park\, 1790 E. Social Row Rd.\, Centerville\, OH\, 45458\, United States
ATTACH;FMTTYPE=image/jpeg:https://cwpd.org/wp-content/uploads/2020/07/120x120_archery.jpg
END:VEVENT
BEGIN:VEVENT
DTSTART;TZID=America/New_York:20250713T180000
DTEND;TZID=America/New_York:20250713T193000
DTSTAMP:20260425T163425
CREATED:20250428T191720Z
LAST-MODIFIED:20250705T214222Z
UID:28024-1752429600-1752435000@cwpd.org
SUMMARY:Summer Adult Archery B
DESCRIPTION:Ages 16 and up \n  \nThis program is for beginners interested in learning archery! By the end of the night\, you’ll be shooting on your own\, playing games and increasing your confidence as an archer. Each group can have up to four people. This program is perfect for couples\, friend groups\, co-workers\, siblings and more! One registration per group. Must be 16 or older to join. \n  \nRegistration deadline: Monday\, July 7
URL:https://cwpd.org/event/summer-adult-archery-b/
LOCATION:Oak Grove Park\, 1790 E. Social Row Rd.\, Centerville\, OH\, 45458\, United States
ATTACH;FMTTYPE=image/png:https://cwpd.org/wp-content/uploads/2017/05/120x120_adult_archery_league.png
END:VEVENT
BEGIN:VEVENT
DTSTART;TZID=America/New_York:20250712T110000
DTEND;TZID=America/New_York:20250712T120000
DTSTAMP:20260425T163425
CREATED:20250430T160220Z
LAST-MODIFIED:20250710T104109Z
UID:28022-1752318000-1752321600@cwpd.org
SUMMARY:Lacrosse Ball/Foam Rolling Clinic
DESCRIPTION:Ages 16 and up (under 18 requires adult companion) \n  \nAirrosti’s Dr. Steven Miller and Adelle will teach you how to manage\, reduce and eliminate musculoskeletal pain through preventative self-myofascial release techniques using a foam roller and lacrosse ball. If you have a foam roller\, lacrosse ball or mat\, please bring them with you. There will be a limited supply of foam rollers and lacrosse balls on hand to use. \n  \nRegistration deadline: Thursday\, July 10
URL:https://cwpd.org/event/lacrosse-ball-foam-rolling-clinic-5/
LOCATION:Activity Center Park\, 221 N. Main St.\, Centerville\, OH\, 45459\, United States
ATTACH;FMTTYPE=image/png:https://cwpd.org/wp-content/uploads/2025/01/FoamRoller_120x120.png
END:VEVENT
BEGIN:VEVENT
DTSTART;TZID=America/New_York:20250712T100000
DTEND;TZID=America/New_York:20250712T113000
DTSTAMP:20260425T163425
CREATED:20250428T191929Z
LAST-MODIFIED:20250705T214121Z
UID:28019-1752314400-1752319800@cwpd.org
SUMMARY:Past and Present: Grant Park and Normandy Farms
DESCRIPTION:Ages 16 and up \n  \nJoin history experts and CWPD for a look at Grant Park’s Normandy Entrance\, past and present. After a presentation on the area’s history featuring Richard H. Grant and Normandy Farms\, we will take a short hike to view the remnants of the past mixed with the present natural environment. The hike is on a natural trail with some inclines. \n  \nRegistration deadline: Thursday\, July 10
URL:https://cwpd.org/event/past-and-present-grant-park-and-normandy-farms/
LOCATION:Grant Park\, 501 Normandy Ridge Rd.\, Centerville\, OH\, United States
ATTACH;FMTTYPE=image/jpeg:https://cwpd.org/wp-content/uploads/2025/04/NormandyFarms_120x120.jpg
END:VEVENT
END:VCALENDAR