BEGIN:VCALENDAR
VERSION:2.0
PRODID:-//Centerville-Washington Park District - ECPv6.0.12//NONSGML v1.0//EN
CALSCALE:GREGORIAN
METHOD:PUBLISH
X-WR-CALNAME:Centerville-Washington Park District
X-ORIGINAL-URL:https://cwpd.org
X-WR-CALDESC:Events for Centerville-Washington Park District
REFRESH-INTERVAL;VALUE=DURATION:PT1H
X-Robots-Tag:noindex
X-PUBLISHED-TTL:PT1H
BEGIN:VTIMEZONE
TZID:America/New_York
BEGIN:DAYLIGHT
TZOFFSETFROM:-0500
TZOFFSETTO:-0400
TZNAME:EDT
DTSTART:20250309T070000
END:DAYLIGHT
BEGIN:STANDARD
TZOFFSETFROM:-0400
TZOFFSETTO:-0500
TZNAME:EST
DTSTART:20251102T060000
END:STANDARD
BEGIN:DAYLIGHT
TZOFFSETFROM:-0500
TZOFFSETTO:-0400
TZNAME:EDT
DTSTART:20260308T070000
END:DAYLIGHT
BEGIN:STANDARD
TZOFFSETFROM:-0400
TZOFFSETTO:-0500
TZNAME:EST
DTSTART:20261101T060000
END:STANDARD
END:VTIMEZONE
BEGIN:VEVENT
DTSTART;TZID=America/New_York:20260110T100000
DTEND;TZID=America/New_York:20260110T113000
DTSTAMP:20260424T212133
CREATED:20251103T152109Z
LAST-MODIFIED:20260105T124314Z
UID:29209-1768039200-1768044600@cwpd.org
SUMMARY:Young Birders Club Meeting
DESCRIPTION:Ages 12 – 18 \n  \nKettering PRCA and Centerville-Washington Park District are collaborating to bring the joy of bird watching to our youth. Light snacks are provided. Participants must become members of the Ohio Young Birders Club and be between the ages of 12 and 18. \n  \nProgram Code: 01-30240-B (registration through Kettering)
URL:https://cwpd.org/event/young-birders-club-meeting-4/
LOCATION:The Habitat Environmental Center\, 3036 Bellflower St.\, Kettering\, OH\, 45409\, United States
ATTACH;FMTTYPE=image/png:https://cwpd.org/wp-content/uploads/2016/11/120x120_birding-evening-grosbeak.png
END:VEVENT
BEGIN:VEVENT
DTSTART;TZID=America/New_York:20260108T160000
DTEND;TZID=America/New_York:20260108T171500
DTSTAMP:20260424T212133
CREATED:20251103T151732Z
LAST-MODIFIED:20260102T134040Z
UID:29207-1767888000-1767892500@cwpd.org
SUMMARY:Creative Crafting
DESCRIPTION:Ages 9 – 13 \n  \nTry new art skills during this fun\, nature-themed crafting program. Each session will offer different options for participants to choose from\, allowing them to work independently or get creative together! \n  \nRegistration deadline: Thursday\, January 1
URL:https://cwpd.org/event/creative-crafting-january/
LOCATION:Activity Center Park\, 221 N. Main St.\, Centerville\, OH\, 45459\, United States
ATTACH;FMTTYPE=image/png:https://cwpd.org/wp-content/uploads/2025/01/CreativeCrafting_120x120.png
END:VEVENT
BEGIN:VEVENT
DTSTART;TZID=America/New_York:20260108T103000
DTEND;TZID=America/New_York:20260108T113000
DTSTAMP:20260424T212133
CREATED:20250728T172503Z
LAST-MODIFIED:20260107T115532Z
UID:28663-1767868200-1767871800@cwpd.org
SUMMARY:Gentle Yoga B
DESCRIPTION:Ages 18 and up\nThursdays\, January 8 – February 26 \n  \nJoin us for a gentler\, more adaptable yoga program. This class will feature additional guidance\, modifications and props to assist in supporting postures and a slower pace. Taught by certified yoga instructor Kathleen Crosby. This is an eight-week session. Please bring a yoga mat and water. \n  \nRegistration deadline: Monday\, January 5
URL:https://cwpd.org/event/gentle-yoga-b/
LOCATION:Grant Park\, Kennard Nature Nook\, 6588 McEwen Rd.\, Centerville\, OH\, 45459\, United States
ATTACH;FMTTYPE=image/jpeg:https://cwpd.org/wp-content/uploads/2024/01/120x120_gentle-yoga-jpg.webp
END:VEVENT
BEGIN:VEVENT
DTSTART;TZID=America/New_York:20260108T080000
DTEND;TZID=America/New_York:20260218T170000
DTSTAMP:20260424T212133
CREATED:20251103T154525Z
LAST-MODIFIED:20260109T121746Z
UID:29205-1767859200-1771434000@cwpd.org
SUMMARY:Spot the Owls Scavenger Hunt
DESCRIPTION:All ages\nThursday\, January 8 – Wednesday\, February 18 \n  \nSpot\, the Park District Snowman\, is excited to go owling in the parks! Whoooo knew we had so many! Each week\, participants will receive a clue to go out in your parks to search for the owls. Owls will only be hiding at each park for one week! Scan the QR code on the sign next to Spot the Snowman to log which owls were in the park. Each week that you log owls gets you another entry into our raffle for some owl-themed prizes! After the hunt\, an owl round-up with images of each owl will be emailed to you so you can vote for your favorite entry. \n  \nRegistration deadline: Wednesday\, February 11 (Clues are emailed every Thursday. Registering late may mean you miss some of the clues)
URL:https://cwpd.org/event/spot-the-owls-scavenger-hunt/
LOCATION:OH
ATTACH;FMTTYPE=image/jpeg:https://cwpd.org/wp-content/uploads/2022/09/spotthesnowman.jpg
END:VEVENT
BEGIN:VEVENT
DTSTART;TZID=America/New_York:20260106T183000
DTEND;TZID=America/New_York:20260106T203000
DTSTAMP:20260424T212133
CREATED:20251103T180304Z
LAST-MODIFIED:20260102T133956Z
UID:29200-1767724200-1767731400@cwpd.org
SUMMARY:Beyond Recycling: How to Live Zero Waste
DESCRIPTION:Ages 18 and up \n  \nLocal Master Recycler and Zero-Waste Expert Mike Fanelli will take you through how to go from recycling pro to zero waste. From using local resources to expand your ability to recycle and compost\, to changing your mindset about how and what you buy\, you’ll walk away with tips and tricks to take your household one step further into the world of zero waste! \n  \nRegistration deadline: Thursday\, January 1
URL:https://cwpd.org/event/beyond-recycling-how-to-live-zero-waste/
LOCATION:Grant Park\, Kennard Nature Nook\, 6588 McEwen Rd.\, Centerville\, OH\, 45459\, United States
ATTACH;FMTTYPE=image/jpeg:https://cwpd.org/wp-content/uploads/2025/10/zerowaste_120x120.jpg
END:VEVENT
BEGIN:VEVENT
DTSTART;TZID=America/New_York:20260106T161500
DTEND;TZID=America/New_York:20260106T174500
DTSTAMP:20260424T212133
CREATED:20251103T190208Z
LAST-MODIFIED:20251219T163538Z
UID:29198-1767716100-1767721500@cwpd.org
SUMMARY:Beginner Pickleball Lessons
DESCRIPTION:Ages 18 and up\nTuesdays\, January 6 – February 3 \n  \nJoin Certified Pickleball Trainer James Lawson to develop the introductory skills to level up your pickleball game. James is a licensed and certified instructor with a DUPR rating of 5.23. This 4-week lesson is designed for the beginner player looking to develop basic skills to move up to a more competitive level of play. This program will be held indoors with adapted lessons during winter. \n  \nRegistration deadline: Friday\, January 2
URL:https://cwpd.org/event/beginner-pickleball-lessons-2/
LOCATION:Activity Center Park\, 221 N. Main St.\, Centerville\, OH\, 45459\, United States
ATTACH;FMTTYPE=image/png:https://cwpd.org/wp-content/uploads/2022/01/120x120-pickleball-women.png
END:VEVENT
BEGIN:VEVENT
DTSTART;TZID=America/New_York:20260106T103000
DTEND;TZID=America/New_York:20260106T113000
DTSTAMP:20260424T212133
CREATED:20251103T184913Z
LAST-MODIFIED:20260104T201144Z
UID:29196-1767695400-1767699000@cwpd.org
SUMMARY:Gentle Yoga
DESCRIPTION:Ages 18 and up\nTuesdays\, January 6 – February 24 \n  \nJoin us for a gentler\, more adaptable yoga program. This class will feature additional guidance\, modifications and props to assist in supporting postures and a slower pace. Taught by certified yoga instructor Kathleen Crosby. Please bring a yoga mat and water. \n  \nRegistration deadline: Friday\, January 2
URL:https://cwpd.org/event/gentle-yoga/
LOCATION:Grant Park\, Kennard Nature Nook\, 6588 McEwen Rd.\, Centerville\, OH\, 45459\, United States
ATTACH;FMTTYPE=image/jpeg:https://cwpd.org/wp-content/uploads/2024/01/120x120_gentle-yoga-jpg.webp
END:VEVENT
BEGIN:VEVENT
DTSTART;TZID=America/New_York:20260105T163000
DTEND;TZID=America/New_York:20260105T180000
DTSTAMP:20260424T212133
CREATED:20251031T200722Z
LAST-MODIFIED:20251231T132652Z
UID:29194-1767630600-1767636000@cwpd.org
SUMMARY:Outdoor Explorers
DESCRIPTION:Ages 9 – 12\nMondays January 5 – February 9 \n  \nChildren will learn about nature and the outdoors in this program designed to allow children to interact with nature in unique ways. Activities include discovery\, challenges and games. We occasionally celebrate the last session of the season with a campfire and s’mores. Please let us know if your child has any dietary restrictions by answering the custom questions upon registration. \n  \nRegistration deadline: Monday\, December 29
URL:https://cwpd.org/event/outdoor-explorers/
LOCATION:Bill Yeck Park\, Smith House\, 2230 E. Centerville Station Road\, Centerville\, OH\, 45459\, United States
ATTACH;FMTTYPE=image/png:https://cwpd.org/wp-content/uploads/2021/10/outdoor-explorers-120x120-1.png
END:VEVENT
BEGIN:VEVENT
DTSTART;TZID=America/New_York:20260103T090000
DTEND;TZID=America/New_York:20260103T130000
DTSTAMP:20260424T212133
CREATED:20251031T152338Z
LAST-MODIFIED:20260105T123946Z
UID:29191-1767430800-1767445200@cwpd.org
SUMMARY:Styrofoam Recycling Event
DESCRIPTION:Volunteers will unload your vehicle — you won’t even need to get out of your car! This event is open to the public\, regardless of where you live. \n  \nPlease make sure you are following the guidelines listed below:\n* Styrofoam must be clean\n* Clean food containers will be accepted. These must be scrubbed out.\n* No stickers or tape \n  \nAt this event\, we will also accept batteries and holiday string lights for recycling. \n  \nRegistration is not required\, but registered participants will receive an email reminder before the event.
URL:https://cwpd.org/event/styrofoam-recycling-event/
LOCATION:Activity Center Park\, 221 N. Main St.\, Centerville\, OH\, 45459\, United States
ATTACH;FMTTYPE=image/jpeg:https://cwpd.org/wp-content/uploads/2025/10/styrofoam_120x120.jpg
END:VEVENT
BEGIN:VEVENT
DTSTART;TZID=America/New_York:20260102T090000
DTEND;TZID=America/New_York:20260102T160000
DTSTAMP:20260424T212133
CREATED:20251031T153758Z
LAST-MODIFIED:20251219T163448Z
UID:29189-1767344400-1767369600@cwpd.org
SUMMARY:Arctic Exploration Camp
DESCRIPTION:Ages 5 – 12 \n  \nA winter break camp experience to keep your children active while school is out! Much like our summer day camp\, campers will explore the park\, but this time for all things winter! Children will warm up in the Smith House with games\, crafts and nature programs. \n  \nRegistration deadline: Friday\, December 26
URL:https://cwpd.org/event/arctic-exploration-camp-6/
LOCATION:Bill Yeck Park\, Smith House\, 2230 E. Centerville Station Road\, Centerville\, OH\, 45459\, United States
ATTACH;FMTTYPE=image/png:https://cwpd.org/wp-content/uploads/2020/03/120x120-arctic-explorations.png
END:VEVENT
BEGIN:VEVENT
DTSTART;TZID=America/New_York:20251231T090000
DTEND;TZID=America/New_York:20251231T160000
DTSTAMP:20260424T212133
CREATED:20251031T153751Z
LAST-MODIFIED:20251215T120310Z
UID:29187-1767171600-1767196800@cwpd.org
SUMMARY:Arctic Exploration Camp
DESCRIPTION:Ages 5 – 12 \n  \nA winter break camp experience to keep your children active while school is out! Much like our summer day camp\, campers will explore the park\, but this time for all things winter! Children will warm up in the Smith House with games\, crafts and nature programs. \n  \nRegistration deadline: Wednesday\, December 24
URL:https://cwpd.org/event/arctic-exploration-camp-5/
LOCATION:Bill Yeck Park\, Smith House\, 2230 E. Centerville Station Road\, Centerville\, OH\, 45459\, United States
ATTACH;FMTTYPE=image/png:https://cwpd.org/wp-content/uploads/2020/03/120x120-arctic-explorations.png
END:VEVENT
BEGIN:VEVENT
DTSTART;TZID=America/New_York:20251230T090000
DTEND;TZID=America/New_York:20251230T160000
DTSTAMP:20260424T212133
CREATED:20251031T153739Z
LAST-MODIFIED:20251215T120304Z
UID:29185-1767085200-1767110400@cwpd.org
SUMMARY:Arctic Exploration Camp
DESCRIPTION:Ages 5 – 12 \n  \nA winter break camp experience to keep your children active while school is out! Much like our summer day camp\, campers will explore the park\, but this time for all things winter! Children will warm up in the Smith House with games\, crafts and nature programs. \n  \nRegistration deadline: Tuesday\, December 23
URL:https://cwpd.org/event/arctic-exploration-camp-4/
LOCATION:Bill Yeck Park\, Smith House\, 2230 E. Centerville Station Road\, Centerville\, OH\, 45459\, United States
ATTACH;FMTTYPE=image/png:https://cwpd.org/wp-content/uploads/2020/03/120x120-arctic-explorations.png
END:VEVENT
BEGIN:VEVENT
DTSTART;TZID=America/New_York:20251229T090000
DTEND;TZID=America/New_York:20251229T160000
DTSTAMP:20260424T212133
CREATED:20251031T153733Z
LAST-MODIFIED:20251215T120250Z
UID:29181-1766998800-1767024000@cwpd.org
SUMMARY:Arctic Exploration Camp
DESCRIPTION:Ages 5 – 12 \n  \nA winter break camp experience to keep your children active while school is out! Much like our summer day camp\, campers will explore the park\, but this time for all things winter! Children will warm up in the Smith House with games\, crafts and nature programs. \n  \nRegistration deadline: Monday\, December 22
URL:https://cwpd.org/event/arctic-exploration-camp-3/
LOCATION:Bill Yeck Park\, Smith House\, 2230 E. Centerville Station Road\, Centerville\, OH\, 45459\, United States
ATTACH;FMTTYPE=image/png:https://cwpd.org/wp-content/uploads/2020/03/120x120-arctic-explorations.png
END:VEVENT
BEGIN:VEVENT
DTSTART;TZID=America/New_York:20251229T090000
DTEND;TZID=America/New_York:20251229T120000
DTSTAMP:20260424T212133
CREATED:20251031T152800Z
LAST-MODIFIED:20251223T135123Z
UID:29183-1766998800-1767009600@cwpd.org
SUMMARY:Little Critters Camp
DESCRIPTION:Ages 3 – 5 \n  \nCalling all little ones for a morning of winter camp! We will learn about winter wildlife through games\, songs\, crafts and stories! Campers will play outside throughout the day\, enjoying winter in the park. \n  \nRegistration deadline: Monday\, December 22
URL:https://cwpd.org/event/little-critters-camp-2/
LOCATION:Activity Center Park\, 221 N. Main St.\, Centerville\, OH\, 45459\, United States
ATTACH;FMTTYPE=image/png:https://cwpd.org/wp-content/uploads/2020/10/120x120-winter-woods-daycamp.png
END:VEVENT
BEGIN:VEVENT
DTSTART;TZID=America/New_York:20251223T090000
DTEND;TZID=America/New_York:20251223T160000
DTSTAMP:20260424T212133
CREATED:20251031T153727Z
LAST-MODIFIED:20251219T124606Z
UID:29176-1766480400-1766505600@cwpd.org
SUMMARY:Arctic Exploration Camp
DESCRIPTION:Ages 5 – 12 \n  \nA winter break camp experience to keep your children active while school is out! Much like our summer day camp\, campers will explore the park\, but this time for all things winter! Children will warm up in the Smith House with games\, crafts and nature programs. \n  \nRegistration deadline: Tuesday\, December 16
URL:https://cwpd.org/event/arctic-exploration-camp-2/
LOCATION:Bill Yeck Park\, Smith House\, 2230 E. Centerville Station Road\, Centerville\, OH\, 45459\, United States
ATTACH;FMTTYPE=image/png:https://cwpd.org/wp-content/uploads/2020/03/120x120-arctic-explorations.png
END:VEVENT
BEGIN:VEVENT
DTSTART;TZID=America/New_York:20251222T090000
DTEND;TZID=America/New_York:20251222T160000
DTSTAMP:20260424T212133
CREATED:20251031T153721Z
LAST-MODIFIED:20251215T120142Z
UID:29172-1766394000-1766419200@cwpd.org
SUMMARY:Arctic Exploration Camp
DESCRIPTION:Ages 5 – 12 \n  \nA winter break camp experience to keep your children active while school is out! Much like our summer day camp\, campers will explore the park\, but this time for all things winter! Children will warm up in the Smith House with games\, crafts and nature programs. \n  \nRegistration deadline: Monday\, December 15
URL:https://cwpd.org/event/arctic-exploration-camp/
LOCATION:Bill Yeck Park\, Smith House\, 2230 E. Centerville Station Road\, Centerville\, OH\, 45459\, United States
ATTACH;FMTTYPE=image/png:https://cwpd.org/wp-content/uploads/2020/03/120x120-arctic-explorations.png
END:VEVENT
BEGIN:VEVENT
DTSTART;TZID=America/New_York:20251222T090000
DTEND;TZID=America/New_York:20251222T120000
DTSTAMP:20260424T212133
CREATED:20251031T152750Z
LAST-MODIFIED:20251215T120109Z
UID:29174-1766394000-1766404800@cwpd.org
SUMMARY:Little Critters Camp
DESCRIPTION:Ages 3 – 5 \n  \nCalling all little ones for a morning of winter camp! We will learn about winter wildlife through games\, songs\, crafts and stories! Campers will play outside throughout the day\, enjoying winter in the park. \n  \nRegistration deadline: Monday\, December 15
URL:https://cwpd.org/event/little-critters-camp/
LOCATION:Activity Center Park\, 221 N. Main St.\, Centerville\, OH\, 45459\, United States
ATTACH;FMTTYPE=image/png:https://cwpd.org/wp-content/uploads/2020/10/120x120-winter-woods-daycamp.png
END:VEVENT
BEGIN:VEVENT
DTSTART;TZID=America/New_York:20251220T100000
DTEND;TZID=America/New_York:20251220T110000
DTSTAMP:20260424T212133
CREATED:20251103T160923Z
LAST-MODIFIED:20251219T124601Z
UID:29167-1766224800-1766228400@cwpd.org
SUMMARY:Evergreen Artists
DESCRIPTION:All ages \n  \nFamilies will have fun creating works of art using elements of these amazing evergreen trees. Along our artistic journey\, we will discuss why some trees do not lose their leaves and the adaptations they have to prevent water loss in this dry season. This is a Tools to Trek program. \n  \nRegistration deadline: Thursday\, December 18
URL:https://cwpd.org/event/evergreen-artists/
LOCATION:Bill Yeck Park\, Smith House\, 2230 E. Centerville Station Road\, Centerville\, OH\, 45459\, United States
ATTACH;FMTTYPE=image/jpeg:https://cwpd.org/wp-content/uploads/2025/10/evergreen_120x120.jpg
END:VEVENT
BEGIN:VEVENT
DTSTART;TZID=America/New_York:20251219T190000
DTEND;TZID=America/New_York:20251219T200000
DTSTAMP:20260424T212133
CREATED:20251031T201801Z
LAST-MODIFIED:20251212T123951Z
UID:29164-1766170800-1766174400@cwpd.org
SUMMARY:Cocoa & Cookies
DESCRIPTION:Ages 6 – 10 \n  \nKick off winter break with cocoa and cookies with Katie Blauser from Eat Pretty Darling! Children will bake cookies and make hot cocoa to enjoy during the class. They will also make it as a gift in a jar! Please note: all major food allergens could be present in this class. \n  \nRegistration deadline: Thursday\, December 11
URL:https://cwpd.org/event/cocoa-cookies-2/
LOCATION:Grant Park\, Kennard Nature Nook\, 6588 McEwen Rd.\, Centerville\, OH\, 45459\, United States
ATTACH;FMTTYPE=image/jpeg:https://cwpd.org/wp-content/uploads/2025/10/cocoa_cookies_120x120.jpg
END:VEVENT
BEGIN:VEVENT
DTSTART;TZID=America/New_York:20251218T180000
DTEND;TZID=America/New_York:20251218T190000
DTSTAMP:20260424T212133
CREATED:20251031T191318Z
LAST-MODIFIED:20251217T114931Z
UID:29162-1766080800-1766084400@cwpd.org
SUMMARY:Preschool Nature Series: HiBEARnation
DESCRIPTION:Ages 3 – 5 with adult companion \n  \nBring your favorite teddy bear and we will learn how their wild counterparts\, black bears\, spend the year. We will then venture outdoors and take a short walk on the paved path. This is a Tools to Trek program. \n  \nRegistration deadline: Tuesday\, December 16
URL:https://cwpd.org/event/preschool-nature-series-hibearnation/
LOCATION:Grant Park\, Kennard Nature Nook\, 6588 McEwen Rd.\, Centerville\, OH\, 45459\, United States
ATTACH;FMTTYPE=image/png:https://cwpd.org/wp-content/uploads/2018/10/120x120_preschool-nature-series-winter.png
END:VEVENT
BEGIN:VEVENT
DTSTART;TZID=America/New_York:20251217T180000
DTEND;TZID=America/New_York:20251217T193000
DTSTAMP:20260424T212133
CREATED:20251103T160745Z
LAST-MODIFIED:20251211T194301Z
UID:29155-1765994400-1765999800@cwpd.org
SUMMARY:Seed Starters: Mini Greenhouses
DESCRIPTION:All ages \n  \nIn this family workshop\, we will make mini greenhouses out of milk and water jugs and sow some native seeds! After constructing the houses\, select the species that will work best in your yard and learn how these amazing plants are adapted to the cold Ohio weather. This is a Tools to Trek program. \n  \nRegistration deadline: Monday\, December 15
URL:https://cwpd.org/event/seed-starters-mini-greenhouses/
LOCATION:Bill Yeck Park\, Smith House\, 2230 E. Centerville Station Road\, Centerville\, OH\, 45459\, United States
ATTACH;FMTTYPE=image/jpeg:https://cwpd.org/wp-content/uploads/2025/10/milk_jug_greenhouse_120x120.jpg
END:VEVENT
BEGIN:VEVENT
DTSTART;TZID=America/New_York:20251216T180000
DTEND;TZID=America/New_York:20251216T193000
DTSTAMP:20260424T212133
CREATED:20251103T155947Z
LAST-MODIFIED:20251215T115443Z
UID:29153-1765908000-1765913400@cwpd.org
SUMMARY:Twilight Hike
DESCRIPTION:All ages \n  \nWe are experiencing the shortest days of the year! Join us on a nighttime hike along the orange trail. This is a Tools to Trek program. \n  \nRegistration deadline: Sunday\, December 14
URL:https://cwpd.org/event/twilight-hike/
LOCATION:Bill Yeck Park\, Smith House\, 2230 E. Centerville Station Road\, Centerville\, OH\, 45459\, United States
ATTACH;FMTTYPE=image/png:https://cwpd.org/wp-content/uploads/2017/02/120x120-take-a-hike-day-2019-8.png
END:VEVENT
BEGIN:VEVENT
DTSTART;TZID=America/New_York:20251215T173000
DTEND;TZID=America/New_York:20251215T183000
DTSTAMP:20260424T212133
CREATED:20251031T192532Z
LAST-MODIFIED:20251211T120925Z
UID:29151-1765819800-1765823400@cwpd.org
SUMMARY:Imagination Crew - Nature Play!
DESCRIPTION:Ages 3 – 6 \n  \nThere is so much to be learned through nature play\, but it’s tough when the weather turns chilly. This indoor program welcomes young naturalists to a world of imaginative play\, all themed around nature. Each month will feature a different topic! In December\, we will dive into learning about birds through play. \n  \nRegistration deadline: Wednesday\, December 10
URL:https://cwpd.org/event/imagination-crew-nature-play/
LOCATION:Grant Park\, Kennard Nature Nook\, 6588 McEwen Rd.\, Centerville\, OH\, 45459\, United States
ATTACH;FMTTYPE=image/jpeg:https://cwpd.org/wp-content/uploads/2016/11/winter_woods_camp_2019_cwpd.jpg
END:VEVENT
BEGIN:VEVENT
DTSTART;TZID=America/New_York:20251214T130000
DTEND;TZID=America/New_York:20251214T150000
DTSTAMP:20260424T212133
CREATED:20251103T155636Z
LAST-MODIFIED:20251209T170738Z
UID:29149-1765717200-1765724400@cwpd.org
SUMMARY:Tea Party in the Park
DESCRIPTION:Ages 3 – 10 with adult companion(s) \n  \nJoin us for a tea party for the whole family. This will be an afternoon of nature-themed crafts\, games and enjoying time together! We will have tea and treats sure to please all ages. Enjoy the view of our meadow from the warm and toasty Community Room. One registration per family. \n  \nRegistration deadline: Tuesday\, December 9
URL:https://cwpd.org/event/tea-party-in-the-park/
LOCATION:Activity Center Park\, 221 N. Main St.\, Centerville\, OH\, 45459\, United States
ATTACH;FMTTYPE=image/png:https://cwpd.org/wp-content/uploads/2019/11/winter_warm_up_tea_party-120x120-1.png
END:VEVENT
BEGIN:VEVENT
DTSTART;TZID=America/New_York:20251213T130000
DTEND;TZID=America/New_York:20251213T143000
DTSTAMP:20260424T212133
CREATED:20251103T155452Z
LAST-MODIFIED:20251211T120920Z
UID:29144-1765630800-1765636200@cwpd.org
SUMMARY:Woodpecker Scavenger Hunt
DESCRIPTION:All ages \n  \nDo you know what makes a good woodpecker habitat? Search for all of Ohio’s woodpeckers and the elements they need to survive. Each family will receive their own woodpecker flip guide. This is a Tools to Trek program. \n  \nRegistration deadline: Thursday\, December 11
URL:https://cwpd.org/event/woodpecker-scavenger-hunt/
LOCATION:Grant Park\, 501 Normandy Ridge Rd.\, Centerville\, OH\, United States
ATTACH;FMTTYPE=image/png:https://cwpd.org/wp-content/uploads/2017/07/120x120_red-bellied-woodpecker-male-bill-dice-BY.png
END:VEVENT
BEGIN:VEVENT
DTSTART;TZID=America/New_York:20251212T183000
DTEND;TZID=America/New_York:20251212T203000
DTSTAMP:20260424T212133
CREATED:20251031T151709Z
LAST-MODIFIED:20251213T183732Z
UID:29142-1765564200-1765571400@cwpd.org
SUMMARY:Luminary Walk
DESCRIPTION:All ages \n  \nEnjoy a candlelit stroll through Bill Yeck Park. There will be a half-mile paved route and a one-mile route along the purple trail. Warm up by the John Meyer II Memorial Fire Circle and enjoy the sounds of the season with carols from Centerville High School’s symphonic choir! Free hot chocolate at the Forest Field shelter while supplies last! Please bring a school supply item to support Crayons to Classroom‘s mission to secure and distribute school supplies at no cost to teachers of students in need. \n  \nRegistration is requested but not required.
URL:https://cwpd.org/event/luminary-walk/
LOCATION:Forest Field Park\, 2100 E. Centerville Station Rd.\, Centerville\, OH\, 45459\, United States
ATTACH;FMTTYPE=image/png:https://cwpd.org/wp-content/uploads/2020/10/luminary-walk-120x120-1.png
END:VEVENT
BEGIN:VEVENT
DTSTART;TZID=America/New_York:20251211T180000
DTEND;TZID=America/New_York:20251211T200000
DTSTAMP:20260424T212133
CREATED:20251103T170036Z
LAST-MODIFIED:20251208T114939Z
UID:29138-1765476000-1765483200@cwpd.org
SUMMARY:Glass Fusing: Winter Ornaments
DESCRIPTION:Ages 16 and up \n  \nExercise your creative side while making beautiful fused glass ornaments perfect for gifting or adding to your own holiday décor. Instructor Kathy Woodruff will lead the class in creating three ornaments. Choose from a variety of styles and designs to make each piece uniquely yours. \n  \nRegistration deadline: Sunday\, December 8
URL:https://cwpd.org/event/glass-fusing-winter-ornaments/
LOCATION:Activity Center Park\, 221 N. Main St.\, Centerville\, OH\, 45459\, United States
ATTACH;FMTTYPE=image/jpeg:https://cwpd.org/wp-content/uploads/2019/10/120x120_Glass-Fusing-6.jpg
END:VEVENT
BEGIN:VEVENT
DTSTART;TZID=America/New_York:20251211T180000
DTEND;TZID=America/New_York:20251211T193000
DTSTAMP:20260424T212133
CREATED:20251103T170645Z
LAST-MODIFIED:20251209T170727Z
UID:29140-1765476000-1765481400@cwpd.org
SUMMARY:Hike with a Naturalist
DESCRIPTION:Ages 18 and up \n  \nJoin us on a stroll through your park! A naturalist will point out seasonal changes and discuss the wildlife we observe. Hike is on a natural path. \n  \nRegistration deadline: Tuesday\, December 9
URL:https://cwpd.org/event/hike-with-a-naturalist/
LOCATION:Grant Park\, 501 Normandy Ridge Rd.\, Centerville\, OH\, United States
ATTACH;FMTTYPE=image/jpeg:https://cwpd.org/wp-content/uploads/2019/10/120x120_Hike-for-your-Health-7.jpg
END:VEVENT
BEGIN:VEVENT
DTSTART;TZID=America/New_York:20251211T080000
DTEND;TZID=America/New_York:20251211T170000
DTSTAMP:20260424T212133
CREATED:20251031T191024Z
LAST-MODIFIED:20251208T114900Z
UID:29133-1765440000-1765472400@cwpd.org
SUMMARY:Creative Kids Corner: Take Home Kits
DESCRIPTION:Recommended for ages 3 – 5\nThursdays\, December 11\, January 8 & February 12 \n  \nThis take-home kit features crafts and activities revolving around a fun nature-based seasonal theme! There will be three different kits — one for each month! \n  \nRegistration deadline: Thursday\, December 4
URL:https://cwpd.org/event/creative-kids-corner-take-home-kits-4/
LOCATION:OH
ATTACH;FMTTYPE=image/png:https://cwpd.org/wp-content/uploads/2025/01/CreativeCrafting_120x120.png
END:VEVENT
BEGIN:VEVENT
DTSTART;TZID=America/New_York:20251210T183000
DTEND;TZID=America/New_York:20251210T193000
DTSTAMP:20260424T212133
CREATED:20251103T191146Z
LAST-MODIFIED:20251208T114847Z
UID:29130-1765391400-1765395000@cwpd.org
SUMMARY:Fitness Fusion
DESCRIPTION:Ages 18 and up\nWednesdays\, December 10 – January 28\n(No class December 24 or 31) \n  \nFitness Fusion incorporates cardio\, circuit training\, resistance training\, pilates and compound exercises. Each class will vary in the types of exercises and will help you build speed\, power\, strength and endurance. Modifications provided. Taught by Emily Chandler\, a certified group fitness instructor. You will need a light set of weights and a towel or yoga mat. \n  \nRegistration deadline: Sunday\, December 7
URL:https://cwpd.org/event/fitness-fusion-3/
LOCATION:Activity Center Park\, 221 N. Main St.\, Centerville\, OH\, 45459\, United States
ATTACH;FMTTYPE=image/jpeg:https://cwpd.org/wp-content/uploads/2025/10/fitness_fusion_group_120x120.jpg
END:VEVENT
END:VCALENDAR